BEGIN:VCALENDAR
VERSION:2.0
PRODID:-//VILA - Blog - ECPv4.5.12.2//NONSGML v1.0//EN
CALSCALE:GREGORIAN
METHOD:PUBLISH
X-WR-CALNAME:VILA - Blog
X-ORIGINAL-URL:https://blog.livrariadavila.com.br
X-WR-CALDESC:Events for VILA - Blog
BEGIN:VEVENT
DTSTART;TZID=America/Sao_Paulo:20190323T160000
DTEND;TZID=America/Sao_Paulo:20190323T190000
DTSTAMP:20260420T200935
CREATED:20190220T185754Z
LAST-MODIFIED:20190220T185754Z
UID:93452-1553356800-1553367600@blog.livrariadavila.com.br
SUMMARY:Histórias de Milagres - Sem fé é impossível agradar a Deus
DESCRIPTION:Através da sua fé inabalável na palavra de Deus\, Olga Simoceli venceu inúmeros desafios e inspirou muitas pessoas a seguirem o seu exemplo: nunca se deixar abater pela intensidade das dificuldades que cruzam o nosso caminho.\nSempre confiante de que a recompensa para quem se esforça é certa\, Olga chega aos 85 anos agraciada por muitos milagres e compartilha alguns nesse livro\, em formato de crônicas\, como forma de motivar aos leitores de que vale a pena ter fé e determinação nos objetivos\, porque não estamos sozinhos na caminhada… \nDe Olga Simoceli \nEd. SMA2 \n
URL:https://blog.livrariadavila.com.br/event/historias-de-milagres-sem-fe-e-impossivel-agradar-a-deus/
LOCATION:Av. Moema\, 493\, São Paulo\, São Paulo\, 04077-022\, Brasil
GEO:-23.6060908;-46.6565273
X-APPLE-STRUCTURED-LOCATION;VALUE=URI;X-ADDRESS=Av. Moema 493 São Paulo São Paulo 04077-022 Brasil;X-APPLE-RADIUS=500;X-TITLE=Av. Moema\, 493:geo:-46.6565273,-23.6060908
CATEGORIES:LANÇAMENTOS,SESSÕES DE AUTÓGRAFOS
END:VEVENT
END:VCALENDAR