BEGIN:VCALENDAR
VERSION:2.0
PRODID:-//VILA - Blog - ECPv4.5.12.2//NONSGML v1.0//EN
CALSCALE:GREGORIAN
METHOD:PUBLISH
X-WR-CALNAME:VILA - Blog
X-ORIGINAL-URL:https://blog.livrariadavila.com.br
X-WR-CALDESC:Events for VILA - Blog
BEGIN:VEVENT
DTSTART;TZID=America/Sao_Paulo:20221210T170000
DTEND;TZID=America/Sao_Paulo:20221210T200000
DTSTAMP:20260422T141813
CREATED:20221118T192404Z
LAST-MODIFIED:20221118T192404Z
UID:116088-1670691600-1670702400@blog.livrariadavila.com.br
SUMMARY:HISTÓRIAS DE QUINTAL - CLAUDIA CASTILHO\, KATHIA CASTILHO E MARIA ALICE XIMENES - ED. ESTAÇÃO DAS LETRAS E CORES
DESCRIPTION: \n  \nO que é a infância e qual a importância de espaços para brincar? Foi a partir desta pergunta que nos interessamos em coletar histórias e vivências memoráveis por um grupo de maravilhosos autores\, de diferentes áreas do conhecimento.\nA ideia que nos movia era criar um repertório sobre quintais vividos e quanto o espaço do brincar nos revela sobre brincadeiras\, percepção do entorno\, aromas\, gosto\, família\, amigos\, escola… O que a memória nos traz? Quais histórias os quintais nos permitiram construir?\nOs textos revivem nossa conexão interna\, nossas memórias e nos permitirá de certo\, um encontro com nossa criança interior e com as crianças que estão próximas a nós. Que nossas histórias nos aproximem das necessidades do “ser criança” e que possamos\, cada vez mais\, (re)pensar nossas práticas como educadores.\nPropusemos-nos a pensar\, a organização da obra\, em espaços verdes para as analogias\, nas quais os textos foram divididos: Raízes\, Florestas\, Semear e Plantio. \nNa primeira parte\, Raízes\, estão os textos cujo eixo central fala de ancestralidade\, histórias onde os protagonistas ou aqueles que desencadeiam os percursos narrativos são queridos antepassados. Na segunda parte\, Florestas\, estão memórias\, vivências que entendemos\, se fortaleceram\, criaram paisagens repletas de fatos a serem lembrados. Na terceira parte\, Sementes\, encontram-se os textos que sensibilizam\, movem reflexões e nos movem em direção a uma consciência de necessidade de natureza e plantios futuros. E por último\, Plantio\, com textos que nos inspiram questões artísticas\, criativas e nos ajudam a repensar o lugar e o fazer da Escola e também do nosso papel\, na vida\, na família e porque não\, nos quintais mundo afora. \n  \nAutores: Aline Brentegani\, Ana Claudia de Oliveira\, Ana Paula Vieira de Jesus\, Ana Tatit\,\nBetânia Ridolfi Alvisi\, Bruna Ribeiro\, Carlos Eduardo Correa\, Carol Nobrega\, Claudia Castilho\, Daniel Dias Querino\, Denise Marques da Silva\, Diana Tatit\, Diego Ramos Lahóz\, Kathia Castilho\, Larissa de Andrade\, Marco Antonio Riccioppo\, Maria Adelina Pereira\, Maria Alice Ximenes\, Maria de Fatima Mattos\, Mariana Nunes Candido\, Marlise A. Bassani\, Mayná Pataxó\, Patrícia Nunes\, Raissa Farjo\, Renata Stort\, Taís Rodrigues Fróes\, Thiago Henrique\,\nTula Fyskatoris\, Waldete Tristão \n
URL:https://blog.livrariadavila.com.br/event/historias-de-quintal-claudia-castilho-kathia-castilho-e-maria-alice-ximenes-ed-estacao-das-letras-e-cores/
LOCATION:Av. Higienópolis\, 618 – Higienópolis\, São Paulo\, SP\, 01238-000\, Brasil
GEO:-23.542049;-46.6577148
X-APPLE-STRUCTURED-LOCATION;VALUE=URI;X-ADDRESS=Av. Higienópolis 618 – Higienópolis São Paulo SP 01238-000 Brasil;X-APPLE-RADIUS=500;X-TITLE=Av. Higienópolis\, 618 – Higienópolis:geo:-46.6577148,-23.542049
END:VEVENT
END:VCALENDAR