BEGIN:VCALENDAR
VERSION:2.0
PRODID:-//VILA - Blog - ECPv4.5.12.2//NONSGML v1.0//EN
CALSCALE:GREGORIAN
METHOD:PUBLISH
X-WR-CALNAME:VILA - Blog
X-ORIGINAL-URL:https://blog.livrariadavila.com.br
X-WR-CALDESC:Events for VILA - Blog
BEGIN:VEVENT
DTSTART;TZID=America/Sao_Paulo:20240924T180000
DTEND;TZID=America/Sao_Paulo:20240924T210000
DTSTAMP:20260420T121808
CREATED:20240725T210706Z
LAST-MODIFIED:20240725T210706Z
UID:123533-1727200800-1727211600@blog.livrariadavila.com.br
SUMMARY:IA NO MKT - SANDRA MARTINELLI\, RONY VAINZOF\, CAIO LIMA E GISELE KARASSAWA – ED. LEADER
DESCRIPTION: \n  \nO VLK Advogados é uma boutique especializada em Direito Digital que entende e aplica o Direito como instrumento para impulsionar a inovação\, o sucesso dos negócios e uma sociedade mais próspera e justa. Ao lado da ABA\, trilhamos uma jornada consistente em prol de iniciativas que potencializam estratégias de marketing inovadoras\, com ética e segurança jurídica. Essa parceria tem rendido muitos frutos e gerado legado relevante para a ABA e suas associadas\, na vanguarda desta nova era do marketing\, cada vez mais pautado em dados\, algoritmos e Inteligência Artificial. \n
URL:https://blog.livrariadavila.com.br/event/ia-no-mkt-sandra-martinelli-rony-vainzof-caio-lima-e-gisele-karassawa-ed-leader/
LOCATION:Alameda Lorena\, 1501\, São Paulo\, São Paulo\, 01424-005\, Brasil
END:VEVENT
END:VCALENDAR