BEGIN:VCALENDAR
VERSION:2.0
PRODID:-//VILA - Blog - ECPv4.5.12.2//NONSGML v1.0//EN
CALSCALE:GREGORIAN
METHOD:PUBLISH
X-WR-CALNAME:VILA - Blog
X-ORIGINAL-URL:https://blog.livrariadavila.com.br
X-WR-CALDESC:Events for VILA - Blog
BEGIN:VEVENT
DTSTART;TZID=America/Sao_Paulo:20181126T183000
DTEND;TZID=America/Sao_Paulo:20181126T213000
DTSTAMP:20260420T083423
CREATED:20181126T164004Z
LAST-MODIFIED:20181126T164004Z
UID:23604-1543257000-1543267800@blog.livrariadavila.com.br
SUMMARY:ICMS - Temas Fundamentais
DESCRIPTION:De Eduardo Soares de Melo \nEd. Quartier Latin \nPiso superior \n  \n
URL:https://blog.livrariadavila.com.br/event/icms-temas-fundamentais/
CATEGORIES:LANÇAMENTOS,SESSÕES DE AUTÓGRAFOS
END:VEVENT
END:VCALENDAR