BEGIN:VCALENDAR
VERSION:2.0
PRODID:-//VILA - Blog - ECPv4.5.12.2//NONSGML v1.0//EN
CALSCALE:GREGORIAN
METHOD:PUBLISH
X-WR-CALNAME:VILA - Blog
X-ORIGINAL-URL:https://blog.livrariadavila.com.br
X-WR-CALDESC:Events for VILA - Blog
BEGIN:VEVENT
DTSTART;TZID=America/Sao_Paulo:20191029T183000
DTEND;TZID=America/Sao_Paulo:20191029T213000
DTSTAMP:20260422T053826
CREATED:20191002T182353Z
LAST-MODIFIED:20191002T182353Z
UID:99563-1572373800-1572384600@blog.livrariadavila.com.br
SUMMARY:Impactos tributários decorrentes da adoção do IFRS no Brasil.
DESCRIPTION: \nMais de uma década após a edição da Lei n. 10.637\, em 28 de dezembro de 2007\, ainda existem incertezas derivadas de reflexos da convergência das normas contábeis brasileiras aos padrões internacionais de contabilidade. Hoje\, pode-se dizer que\, em sua maior parte\, essas incertezas estão associadas a hipóteses para as quais a Lei n. 12.973\, de 13 de maio de 2014\, foi omissa quando pretendeu neutralizar\, para fins tributários\, os efeitos da convergência após o término do período do regime de transição. O presente livro\, em um ambiente colaborativo\, analisa essas questões de interpretação da legislação tributária\, extrapolando o âmbito meramente acadêmico ao apresentar aplicação prática no cotidiano de empresas e de investidores institucionais. \n  \nDe vários autores \nEd. Blucher \n
URL:https://blog.livrariadavila.com.br/event/impactos-tributarios-decorrentes-da-adocao-do-ifrs-no-brasil/
CATEGORIES:LANÇAMENTOS,SESSÕES DE AUTÓGRAFOS
END:VEVENT
END:VCALENDAR