BEGIN:VCALENDAR
VERSION:2.0
PRODID:-//VILA - Blog - ECPv4.5.12.2//NONSGML v1.0//EN
CALSCALE:GREGORIAN
METHOD:PUBLISH
X-WR-CALNAME:VILA - Blog
X-ORIGINAL-URL:https://blog.livrariadavila.com.br
X-WR-CALDESC:Events for VILA - Blog
BEGIN:VEVENT
DTSTART;TZID=America/Sao_Paulo:20191015T183000
DTEND;TZID=America/Sao_Paulo:20191015T213000
DTSTAMP:20260423T080404
CREATED:20191001T154849Z
LAST-MODIFIED:20191001T154849Z
UID:99472-1571164200-1571175000@blog.livrariadavila.com.br
SUMMARY:Impostos em espécie
DESCRIPTION: \nO estudo dos impostos em espécie sob uma perspectiva sistemática representa questão atual\, na medida em que a produção legislativa promovida pelas pessoas jurídicas de direito público interno tem visado ao longo dos anos apenas a ampliação de mecanismos de arrecadação\, instaurando insegurança jurídica junto aos contribuintes. A relação entre o Estado e a sociedade merece ser transformada de forma que a arrecadação tributária\, autorizada pela Constituição Federal\, seja um instrumento de concretização de políticas públicas. A necessidade de uma observação crítica da postura dos órgãos estatais responsáveis pela fiscalização e arrecadação dos impostos em espécie permitirá o acompanhamento e controle da realização dos direitos sociais eleitos pela Constituição. \n  \nDe Julcira Maria Vianna Lisboa \nEd. Lumen Juris \n
URL:https://blog.livrariadavila.com.br/event/impostos-em-especie/
CATEGORIES:LANÇAMENTOS,SESSÕES DE AUTÓGRAFOS
END:VEVENT
END:VCALENDAR