BEGIN:VCALENDAR
VERSION:2.0
PRODID:-//VILA - Blog - ECPv4.5.12.2//NONSGML v1.0//EN
CALSCALE:GREGORIAN
METHOD:PUBLISH
X-WR-CALNAME:VILA - Blog
X-ORIGINAL-URL:https://blog.livrariadavila.com.br
X-WR-CALDESC:Events for VILA - Blog
BEGIN:VEVENT
DTSTART;TZID=America/Sao_Paulo:20240803T150000
DTEND;TZID=America/Sao_Paulo:20240803T180000
DTSTAMP:20260419T145718
CREATED:20240724T161954Z
LAST-MODIFIED:20240724T161954Z
UID:123465-1722697200-1722708000@blog.livrariadavila.com.br
SUMMARY:INFÂNCIA PROTEGIDA - DANIELA MARQUES – ED. W4
DESCRIPTION: \n  \nO livro “Infância protegida” é indicado para pais\, responsáveis\, educadores e todos quantos tenham uma criança ou adolescente sob sua autoridade\, cuidados e proteção. Também para os interessados em combater os diferentes tipos de abuso e violência em relação a crianças e adolescentes.\nO tema é tão abrangente quanto importante\, uma vez que os dados estatísticos indicam que\, no Brasil\, a cada quatro casos de violência sexual registrados\, três são contra crianças ou adolescentes (Fundação Abrinq\, 2022). A mesma instituição registra que cerca de 73\,8% das notificações de violência sexual envolvem vítimas com menos de 19 anos de idade. \n
URL:https://blog.livrariadavila.com.br/event/infancia-protegida-daniela-marques-ed-w4/
LOCATION:Av. Moema\, 493\, São Paulo\, São Paulo\, 04077-022\, Brasil
GEO:-23.6060908;-46.6565273
X-APPLE-STRUCTURED-LOCATION;VALUE=URI;X-ADDRESS=Av. Moema 493 São Paulo São Paulo 04077-022 Brasil;X-APPLE-RADIUS=500;X-TITLE=Av. Moema\, 493:geo:-46.6565273,-23.6060908
END:VEVENT
END:VCALENDAR