BEGIN:VCALENDAR
VERSION:2.0
PRODID:-//VILA - Blog - ECPv4.5.12.2//NONSGML v1.0//EN
CALSCALE:GREGORIAN
METHOD:PUBLISH
X-WR-CALNAME:VILA - Blog
X-ORIGINAL-URL:https://blog.livrariadavila.com.br
X-WR-CALDESC:Events for VILA - Blog
BEGIN:VEVENT
DTSTART;TZID=America/Sao_Paulo:20181010T190000
DTEND;TZID=America/Sao_Paulo:20181010T213000
DTSTAMP:20260423T031254
CREATED:20180924T163509Z
LAST-MODIFIED:20180924T163509Z
UID:22568-1539198000-1539207000@blog.livrariadavila.com.br
SUMMARY:Influência na carreira - desperte o protagonista que há em você
DESCRIPTION:Neste livro você conhecerá conceitos e técnicas para argumentar\, convencer e persuadir alguém de maneira ética e se tornar o protagonista de sua carreira.\nAlém da riqueza do conteúdo\, o livro ganha um recheio valioso com o prefácio de Ernesto Haberkorn\, sócio-fundador da TOTVS\, e o posfácio de Carlos Wizard Martins\, escritor e um ícone do empreendedorismo.\nEsta obra ainda é abrilhantada por dez entrevistas com executivos de empresas renomadas\, como IBM\, KPMG e Allianz Seguros\, consultores especialistas das consultorias Adigo\, Affero Lab\, Career Center\, a presença especial do ator Emílio de Mello\, a história empreendedora de Sila da Conceição e a experiência do professor Joel Dutra da USP\, além da participação internacional de Allan Cohen\, coautor do livro Influência sem autoridade.\nDe Gianini Cochize Ferreira  \nEd. Évora \n
URL:https://blog.livrariadavila.com.br/event/influencia-na-carreira-desperte-o-protagonista-que-ha-em-voce/
LOCATION:Av. Juscelino Kubitschek\, 2041 - Itaim Bibi\, São Paulo\, São Paulo\, 04543-011\, Brasil
GEO:-23.5914219;-46.6898224
X-APPLE-STRUCTURED-LOCATION;VALUE=URI;X-ADDRESS=Av. Juscelino Kubitschek 2041 - Itaim Bibi São Paulo São Paulo 04543-011 Brasil;X-APPLE-RADIUS=500;X-TITLE=Av. Juscelino Kubitschek\, 2041 - Itaim Bibi:geo:-46.6898224,-23.5914219
CATEGORIES:LANÇAMENTOS,SESSÕES DE AUTÓGRAFOS
END:VEVENT
END:VCALENDAR