BEGIN:VCALENDAR
VERSION:2.0
PRODID:-//VILA - Blog - ECPv4.5.12.2//NONSGML v1.0//EN
CALSCALE:GREGORIAN
METHOD:PUBLISH
X-WR-CALNAME:VILA - Blog
X-ORIGINAL-URL:https://blog.livrariadavila.com.br
X-WR-CALDESC:Events for VILA - Blog
BEGIN:VEVENT
DTSTART;TZID=America/Sao_Paulo:20181031T183000
DTEND;TZID=America/Sao_Paulo:20181031T213000
DTSTAMP:20260422T010538
CREATED:20181002T170046Z
LAST-MODIFIED:20181002T170046Z
UID:22726-1541010600-1541021400@blog.livrariadavila.com.br
SUMMARY:Insegurança pública: apontamentos e memórias de um comandante veterano
DESCRIPTION:Este livro reúne artigos publicados pelo especialista em segurança Diógenes Lucca ao longo dos últimos doze anos. Os textos contemplam assuntos ligados à segurança\, tema de vital importância no contexto social brasileiro de hoje em dia. São indispensáveis para o leitor começar a entender por que o Brasil apresenta há décadas os maiores índices de homicídios anuais do mundo\, os números chegando às dezenas de milhares. \nO livro conversa com o cidadão comum\, mas também instrui os profissionais de segurança\, alerta as autoridades e compartilha pontos de vista valiosos sobre assuntos-chave que ganham diariamente as manchetes dos jornais. Em suma\, conduz a discussão sobre o tema da segurança ao patamar em que ele merece ser discutido. \nDe Diógenes Lucca \nEd. Vide Editorial \n
URL:https://blog.livrariadavila.com.br/event/inseguranca-publica-apontamentos-e-memorias-de-um-comandante-veterano/
LOCATION:Rua Fradique Coutinho\, 915 - Pinheiros\, São Paulo\, São Paulo\, 05416-011\, Brasil
GEO:-23.5592934;-46.6892019
X-APPLE-STRUCTURED-LOCATION;VALUE=URI;X-ADDRESS=Rua Fradique Coutinho 915 - Pinheiros São Paulo São Paulo 05416-011 Brasil;X-APPLE-RADIUS=500;X-TITLE=Rua Fradique Coutinho\, 915 - Pinheiros:geo:-46.6892019,-23.5592934
CATEGORIES:LANÇAMENTOS,SESSÕES DE AUTÓGRAFOS
END:VEVENT
END:VCALENDAR