BEGIN:VCALENDAR
VERSION:2.0
PRODID:-//VILA - Blog - ECPv4.5.12.2//NONSGML v1.0//EN
CALSCALE:GREGORIAN
METHOD:PUBLISH
X-WR-CALNAME:VILA - Blog
X-ORIGINAL-URL:https://blog.livrariadavila.com.br
X-WR-CALDESC:Events for VILA - Blog
BEGIN:VEVENT
DTSTART;TZID=America/Sao_Paulo:20181125T170000
DTEND;TZID=America/Sao_Paulo:20181125T190000
DTSTAMP:20260420T215535
CREATED:20181106T184159Z
LAST-MODIFIED:20181106T184159Z
UID:23410-1543165200-1543172400@blog.livrariadavila.com.br
SUMMARY:Institutos de Processo Civil em Perspectiva
DESCRIPTION:De Lucas Vasconcelos Vieira\, Isadora Beatriz Teixeira Carlos\, Luz Paulo Dammski\, Maria Fernanda Dozza Messagi\, Patrícia Kaczmarek Marçal\, Robson Ivan Stival\, Luciane Sobral\, Bianca Camile dos Santos Filla\, Bruna Fecchio Casassa\, André Cesar de Mello\, Kauana Dal Zotto dos Santos\, Letícia Neves Pirolo\, Maria Alice de Figueiredo Neves Sorgenfrei\, Gabriel Vargas Ribeiro da Fonseca\, Jéssica Kaczmarek Marçal\, Thiago Simões Pessoa e Luan Mora Ferreira \nIndependente \n
URL:https://blog.livrariadavila.com.br/event/institutos-de-processo-civil-em-perspectiva/
LOCATION:Avenida do Batel\, nº 1868 – Loja 314 piso L3\, Curitiba\, Paraná\, 80420-090\, Brasil
GEO:-25.443012;-49.2899507
X-APPLE-STRUCTURED-LOCATION;VALUE=URI;X-ADDRESS=Avenida do Batel nº 1868 – Loja 314 piso L3 Curitiba Paraná 80420-090 Brasil;X-APPLE-RADIUS=500;X-TITLE=Avenida do Batel\, nº 1868 – Loja 314 piso L3:geo:-49.2899507,-25.443012
CATEGORIES:LANÇAMENTOS,SESSÕES DE AUTÓGRAFOS
END:VEVENT
END:VCALENDAR