BEGIN:VCALENDAR
VERSION:2.0
PRODID:-//VILA - Blog - ECPv4.5.12.2//NONSGML v1.0//EN
CALSCALE:GREGORIAN
METHOD:PUBLISH
X-WR-CALNAME:VILA - Blog
X-ORIGINAL-URL:https://blog.livrariadavila.com.br
X-WR-CALDESC:Events for VILA - Blog
BEGIN:VEVENT
DTSTART;TZID=America/Sao_Paulo:20221109T183000
DTEND;TZID=America/Sao_Paulo:20221109T210000
DTSTAMP:20260424T002044
CREATED:20221107T150419Z
LAST-MODIFIED:20221107T150419Z
UID:115923-1668018600-1668027600@blog.livrariadavila.com.br
SUMMARY:JOÃO HERBERT: UMA HISTÓRIA VERDADEIRA - WANJA CAMPOS DA NÓBREGA - INDEPENDENTE
DESCRIPTION: \n  \nEm Joao Herbert – Uma Historia Verdadeira a autora narra\, com sensibilidade e precisão\, a história real da infância de Joao em um orfanato da periferia de São Paulo\, a sua adoção e mudança para Ohio. A narrativa culmina em um desfecho completamente inesperado.\nWanja Nóbrega relata a face humana do trabalho diplomático e da assistência consular. A diplomata foi cônsul do Brasil em Washington\, D.C. e acompanhou diversos casos dramáticos de crianças brasileiras adotadas por casais norte-americanos e deportadas para o Brasil depois de viver anos nos Estados Unidos.\nO emblemático caso de Joao Herbert alterou para sempre as perspectivas da adoção internacional de menores e contribuiu para modificar a legislação norte-americana em matéria de aquisição de nacionalidade no final da década de 1990.\nO leitor acompanhará com emoção o desenrolar desta história. \n
URL:https://blog.livrariadavila.com.br/event/joao-herbert-uma-historia-verdadeira-wanja-campos-da-nobrega-independente/
LOCATION:Alameda Lorena\, 1501\, São Paulo\, São Paulo\, 01424-005\, Brasil
END:VEVENT
END:VCALENDAR