BEGIN:VCALENDAR
VERSION:2.0
PRODID:-//VILA - Blog - ECPv4.5.12.2//NONSGML v1.0//EN
CALSCALE:GREGORIAN
METHOD:PUBLISH
X-WR-CALNAME:VILA - Blog
X-ORIGINAL-URL:https://blog.livrariadavila.com.br
X-WR-CALDESC:Events for VILA - Blog
BEGIN:VEVENT
DTSTART;TZID=America/Sao_Paulo:20191023T183000
DTEND;TZID=America/Sao_Paulo:20191023T213000
DTSTAMP:20260422T155317
CREATED:20191002T173701Z
LAST-MODIFIED:20191002T173859Z
UID:99532-1571855400-1571866200@blog.livrariadavila.com.br
SUMMARY:Lançamento coletivo
DESCRIPTION: \n \n  \nDe Hirdan Katarina de Medeiros Costa \nEd. Lumen Juris \n  \n  \n
URL:https://blog.livrariadavila.com.br/event/lancamento-coletivo-10/
CATEGORIES:LANÇAMENTOS,SESSÕES DE AUTÓGRAFOS
END:VEVENT
END:VCALENDAR