BEGIN:VCALENDAR
VERSION:2.0
PRODID:-//VILA - Blog - ECPv4.5.12.2//NONSGML v1.0//EN
CALSCALE:GREGORIAN
METHOD:PUBLISH
X-WR-CALNAME:VILA - Blog
X-ORIGINAL-URL:https://blog.livrariadavila.com.br
X-WR-CALDESC:Events for VILA - Blog
BEGIN:VEVENT
DTSTART;TZID=America/Sao_Paulo:20181126T183000
DTEND;TZID=America/Sao_Paulo:20181126T213000
DTSTAMP:20260420T142832
CREATED:20181126T163842Z
LAST-MODIFIED:20181126T163842Z
UID:23602-1543257000-1543267800@blog.livrariadavila.com.br
SUMMARY:Lançamento Coletivo
DESCRIPTION:Direito Portuário no Brasil – De Michael de Jesus \nDireito de Laje – De Patricia André de Camargo Ferraz \nAgências de Turismo Online – De Wagner Osti Pedro \nDireito Internacional Privado do Esporte – De Jean Eduardo Batista Nicolau \nA Alienação de Estabelecimento Empresarial – De Sabrina Maria Fadel Becue \nO Caso do Resgate de Piratas – De Rodrigo de Lima Vaz Sampaio \nProrrogação por Interesse Público das Concessões de Serviço Público – De Felipe Montenegro Viviani Guimarães \nEd. Quartier Latin \n
URL:https://blog.livrariadavila.com.br/event/lancamento-coletivo/
CATEGORIES:LANÇAMENTOS,SESSÕES DE AUTÓGRAFOS
END:VEVENT
END:VCALENDAR