BEGIN:VCALENDAR
VERSION:2.0
PRODID:-//VILA - Blog - ECPv4.5.12.2//NONSGML v1.0//EN
CALSCALE:GREGORIAN
METHOD:PUBLISH
X-WR-CALNAME:VILA - Blog
X-ORIGINAL-URL:https://blog.livrariadavila.com.br
X-WR-CALDESC:Events for VILA - Blog
BEGIN:VEVENT
DTSTART;TZID=America/Sao_Paulo:20181206T183000
DTEND;TZID=America/Sao_Paulo:20181206T213000
DTSTAMP:20260422T013903
CREATED:20181203T164406Z
LAST-MODIFIED:20181203T171530Z
UID:24173-1544121000-1544131800@blog.livrariadavila.com.br
SUMMARY:Laowai - histórias de uma repórter brasileira na China
DESCRIPTION: Sônia Bridi e Paulo Zero são correspondentes internacionais da TV Globo em Paris desde janeiro de 2007. Em 2005 e 2006\, foram pioneiros na cobertura latino-americana na China. Neste livro\, Sônia Bridi conta a vida do casal na China com o filho Pedro – que tinha apenas três anos quando chegaram ao país –\, durante os dois anos em que permaneceram no outro lado do planeta. O cotidiano\, o choque cultural\, os bastidores das reportagens\, as paisagens\, as mudanças aceleradas por que passa o país… Misto de grande reportagem – com análises sofisticadas\, mas didáticas e em linguagem popular\, sobre política\, economia\, educação\, meio ambiente\, tecnologia\, trabalho\, energia\, agricultura\, saúde\, costumes\, tradições\, culinária\, burocracia\, censura\, consumo\, hábitos de higiene – e diário de viagem\, com sabor de romance e um humor peculiar\, o livro de Sônia prende o leitor e o encanta até o final da leitura. \nDe Sônia Bridi \nEd. Matrix \n
URL:https://blog.livrariadavila.com.br/event/laowai-historias-de-uma-reporter-brasileira-na-china/
LOCATION:Rua Pamplona\, 1704\, São Paulo\, São Paulo\, 01405-000\, Brasil
GEO:-23.5702482;-46.6612794
X-APPLE-STRUCTURED-LOCATION;VALUE=URI;X-ADDRESS=Rua Pamplona 1704 São Paulo São Paulo 01405-000 Brasil;X-APPLE-RADIUS=500;X-TITLE=Rua Pamplona\, 1704:geo:-46.6612794,-23.5702482
CATEGORIES:LANÇAMENTOS,SESSÕES DE AUTÓGRAFOS
END:VEVENT
END:VCALENDAR