BEGIN:VCALENDAR
VERSION:2.0
PRODID:-//VILA - Blog - ECPv4.5.12.2//NONSGML v1.0//EN
CALSCALE:GREGORIAN
METHOD:PUBLISH
X-WR-CALNAME:VILA - Blog
X-ORIGINAL-URL:https://blog.livrariadavila.com.br
X-WR-CALDESC:Events for VILA - Blog
BEGIN:VEVENT
DTSTART;TZID=America/Sao_Paulo:20181111T150000
DTEND;TZID=America/Sao_Paulo:20181111T180000
DTSTAMP:20260420T181521
CREATED:20181023T135222Z
LAST-MODIFIED:20181023T135222Z
UID:23187-1541948400-1541959200@blog.livrariadavila.com.br
SUMMARY:Layla\, a menina síria
DESCRIPTION: Layla veio de Alepo\, no norte da Síria. Ela e sua família tiveram que deixar o país por causa da guerra\, assim como quase todos os seus amigos e familiares\, obrigados a procurar um lugar seguro para viver. Neste emocionante livro\, Layla conta histórias do período tão conturbado que viveu antes de finalmente chegar ao Brasil. Através de sua sensível narração\, o leitor entrará em contato com um mundo completamente diferente\, com outros cheiros\, sabores\, cores e dores. Como será ficar longe de tudo e todos que conhecemos\, viver com tantas lembranças tristes\, ter que recomeçar do zero? No mundo contemporâneo\, faz-se mais que necessário entender diferentes realidades\, ouvir as histórias dos outros e aprender com eles o que é empatia\, superação e coragem. \nDe Cassiana Pizaia\, Rima Awada e Rosa Vilas Boas \nEd do Brasil \n
URL:https://blog.livrariadavila.com.br/event/layla-a-menina-siria/
LOCATION:Avenida do Batel\, nº 1868 – Loja 314 piso L3\, Curitiba\, Paraná\, 80420-090\, Brasil
GEO:-25.443012;-49.2899507
X-APPLE-STRUCTURED-LOCATION;VALUE=URI;X-ADDRESS=Avenida do Batel nº 1868 – Loja 314 piso L3 Curitiba Paraná 80420-090 Brasil;X-APPLE-RADIUS=500;X-TITLE=Avenida do Batel\, nº 1868 – Loja 314 piso L3:geo:-49.2899507,-25.443012
CATEGORIES:LANÇAMENTOS,SESSÕES DE AUTÓGRAFOS
END:VEVENT
END:VCALENDAR