BEGIN:VCALENDAR
VERSION:2.0
PRODID:-//VILA - Blog - ECPv4.5.12.2//NONSGML v1.0//EN
CALSCALE:GREGORIAN
METHOD:PUBLISH
X-WR-CALNAME:VILA - Blog
X-ORIGINAL-URL:https://blog.livrariadavila.com.br
X-WR-CALDESC:Events for VILA - Blog
BEGIN:VEVENT
DTSTART;TZID=America/Sao_Paulo:20221121T180000
DTEND;TZID=America/Sao_Paulo:20221121T210000
DTSTAMP:20260423T032724
CREATED:20221109T193852Z
LAST-MODIFIED:20221109T193852Z
UID:115974-1669053600-1669064400@blog.livrariadavila.com.br
SUMMARY:LEI FLORESTAL: UMA ANÁLISE APÓS 10 ANOS - ÉDIS MILARÉ - ED. RT
DESCRIPTION: \n  \nA obra traz conteúdo de especialistas das mais variadas áreas\, expoentes do Direito Ambiental e Agrário\, representantes do meio acadêmico e técnico\, de instituições governamentais\, e também de personalidades políticas\, para marcar os dez anos da vigência da Lei Florestal\, 12.651/2012\, mais conhecida como Código Florestal. \n  \n  \n
URL:https://blog.livrariadavila.com.br/event/lei-florestal-uma-analise-apos-10-anos-edis-milare-ed-rt/
LOCATION:Rua Pamplona\, 1704\, São Paulo\, São Paulo\, 01405-000\, Brasil
GEO:-23.5702482;-46.6612794
X-APPLE-STRUCTURED-LOCATION;VALUE=URI;X-ADDRESS=Rua Pamplona 1704 São Paulo São Paulo 01405-000 Brasil;X-APPLE-RADIUS=500;X-TITLE=Rua Pamplona\, 1704:geo:-46.6612794,-23.5702482
END:VEVENT
END:VCALENDAR