BEGIN:VCALENDAR
VERSION:2.0
PRODID:-//VILA - Blog - ECPv4.5.12.2//NONSGML v1.0//EN
CALSCALE:GREGORIAN
METHOD:PUBLISH
X-WR-CALNAME:VILA - Blog
X-ORIGINAL-URL:https://blog.livrariadavila.com.br
X-WR-CALDESC:Events for VILA - Blog
BEGIN:VEVENT
DTSTART;TZID=America/Sao_Paulo:20181019T193000
DTEND;TZID=America/Sao_Paulo:20181019T210000
DTSTAMP:20260423T080543
CREATED:20180920T173256Z
LAST-MODIFIED:20180920T173256Z
UID:22551-1539977400-1539982800@blog.livrariadavila.com.br
SUMMARY:Leituras compartilhadas - A assombração na Casa da Colina
DESCRIPTION: \nCom Rafael Kalebe e Juliana Leuenroth \nEvento gratuito \n  \n
URL:https://blog.livrariadavila.com.br/event/leituras-compartilhadas-a-assombracao-na-casa-da-colina/
LOCATION:Rua Fradique Coutinho\, 915 - Pinheiros\, São Paulo\, São Paulo\, 05416-011\, Brasil
GEO:-23.5592934;-46.6892019
X-APPLE-STRUCTURED-LOCATION;VALUE=URI;X-ADDRESS=Rua Fradique Coutinho 915 - Pinheiros São Paulo São Paulo 05416-011 Brasil;X-APPLE-RADIUS=500;X-TITLE=Rua Fradique Coutinho\, 915 - Pinheiros:geo:-46.6892019,-23.5592934
CATEGORIES:CLUBES DE LEITURA
END:VEVENT
END:VCALENDAR