BEGIN:VCALENDAR
VERSION:2.0
PRODID:-//VILA - Blog - ECPv4.5.12.2//NONSGML v1.0//EN
CALSCALE:GREGORIAN
METHOD:PUBLISH
X-WR-CALNAME:VILA - Blog
X-ORIGINAL-URL:https://blog.livrariadavila.com.br
X-WR-CALDESC:Events for VILA - Blog
BEGIN:VEVENT
DTSTART;TZID=America/Sao_Paulo:20190404T183000
DTEND;TZID=America/Sao_Paulo:20190404T213000
DTSTAMP:20260421T010711
CREATED:20190328T144121Z
LAST-MODIFIED:20190328T144121Z
UID:95886-1554402600-1554413400@blog.livrariadavila.com.br
SUMMARY:Linha de chegada
DESCRIPTION:De Márcia Tolotti e Cristiane Moraes \nIndependente \n
URL:https://blog.livrariadavila.com.br/event/linha-de-chegada/
LOCATION:Rua Pamplona\, 1704\, São Paulo\, São Paulo\, 01405-000\, Brasil
GEO:-23.5702482;-46.6612794
X-APPLE-STRUCTURED-LOCATION;VALUE=URI;X-ADDRESS=Rua Pamplona 1704 São Paulo São Paulo 01405-000 Brasil;X-APPLE-RADIUS=500;X-TITLE=Rua Pamplona\, 1704:geo:-46.6612794,-23.5702482
CATEGORIES:LANÇAMENTOS,SESSÕES DE AUTÓGRAFOS
END:VEVENT
END:VCALENDAR