BEGIN:VCALENDAR
VERSION:2.0
PRODID:-//VILA - Blog - ECPv4.5.12.2//NONSGML v1.0//EN
CALSCALE:GREGORIAN
METHOD:PUBLISH
X-WR-CALNAME:VILA - Blog
X-ORIGINAL-URL:https://blog.livrariadavila.com.br
X-WR-CALDESC:Events for VILA - Blog
BEGIN:VEVENT
DTSTART;TZID=America/Sao_Paulo:20260508T190000
DTEND;TZID=America/Sao_Paulo:20260508T210000
DTSTAMP:20260423T220941
CREATED:20260423T150159Z
LAST-MODIFIED:20260423T150159Z
UID:133565-1778266800-1778274000@blog.livrariadavila.com.br
SUMMARY:LUGAR DE MULHER É NO PALCO | SOMOS F*DAS -  ORG. CATARINA COELHO - ED. INDEPENDENTE
DESCRIPTION: \nDurante muito tempo\, disseram às mulheres para falar baixo\, ocupar pouco espaço e não chamar atenção. \nMas a voz de uma mulher tem o poder de transformar vidas começando pela dela. \nEm Lugar de Mulher é no Palco\, Catarina Coelho conduz a leitora por uma jornada profunda entre emoção\, técnica e consciência. \nMais do que um livro sobre oratória\, esta é uma experiência de reconexão com a própria voz. \nAo longo das páginas\, a autora revela como o medo\, as feridas emocionais e os bloqueios internos se manifestam na comunicação e\, principalmente\, como transformá-los em presença\, clareza e impacto. \nCom uma abordagem que une ciência\, prática e sensibilidade\, Catarina mostra que falar bem não é sobre perfeição\, mas sobre verdade. \nVocê vai aprender a: \n\nCompreender o que acontece no corpo e nas emoções antes e durante uma fala\nEstruturar uma comunicação clara\, envolvente e memorável\nUtilizar a respiração\, a energia e o corpo como aliados no palco\nIdentificar e superar bloqueios como medo\, rejeição e insegurança\nDesenvolver uma presença autêntica e uma voz que conecta e inspira\n\nEste livro é um convite para que cada mulher deixe de se esconder e assuma o seu lugar não apenas nos palcos\, mas na vida. \n \nEste livro reúne histórias reais de mulheres que decidiram romper.\nRomper com o medo\, com a culpa\, com o silêncio e\, principalmente\, com a versão pequena que o mundo tentou impor.\nAqui\, você vai encontrar trajetórias de dor\, recomeço\, coragem e conquista. Mulheres que caíram\, duvidaram\, travaram… mas que escolheram se levantar — e nunca mais se esconder.\n“Somos F*das” é sobre assumir a própria voz.\nÉ sobre parar de pedir permissão.\nÉ sobre entender que ser forte não é não ter medo é ir com medo mesmo.\nCada capítulo é um convite para que você também se reconheça:\nna sua força\, na sua história\, no seu lugar. \n
URL:https://blog.livrariadavila.com.br/event/lugar-de-mulher-e-no-palco-somos-fdas-org-catarina-coelho-ed-independente/
LOCATION:Av. Juscelino Kubitschek\, 2041 - Itaim Bibi\, São Paulo\, São Paulo\, 04543-011\, Brasil
GEO:-23.5914219;-46.6898224
X-APPLE-STRUCTURED-LOCATION;VALUE=URI;X-ADDRESS=Av. Juscelino Kubitschek 2041 - Itaim Bibi São Paulo São Paulo 04543-011 Brasil;X-APPLE-RADIUS=500;X-TITLE=Av. Juscelino Kubitschek\, 2041 - Itaim Bibi:geo:-46.6898224,-23.5914219
CATEGORIES:LANÇAMENTOS,SESSÕES DE AUTÓGRAFOS
END:VEVENT
END:VCALENDAR