BEGIN:VCALENDAR
VERSION:2.0
PRODID:-//VILA - Blog - ECPv4.5.12.2//NONSGML v1.0//EN
CALSCALE:GREGORIAN
METHOD:PUBLISH
X-WR-CALNAME:VILA - Blog
X-ORIGINAL-URL:https://blog.livrariadavila.com.br
X-WR-CALDESC:Events for VILA - Blog
BEGIN:VEVENT
DTSTART;TZID=America/Sao_Paulo:20191216T183000
DTEND;TZID=America/Sao_Paulo:20191216T213000
DTSTAMP:20260423T190956
CREATED:20191127T182011Z
LAST-MODIFIED:20191127T182011Z
UID:102372-1576521000-1576531800@blog.livrariadavila.com.br
SUMMARY:Luto em pediatria – Reflexões da equipe multidisciplinar do Sabará Hospital Infantil
DESCRIPTION: \nUma criança adoece. Pode morrer. Sua família vive uma crise. Nem todo luto está diretamente relacionado com a morte. Profissionais competentes devem agir em âmbito interdisciplinar. Este livro conduz a uma leitura de beleza única no que se refere à experiência humana diante da morte e do luto que envolve crianças. Os autores\, profissionais altamente capacitados em atendimento pediátrico integral\, fazem reflexões sobre como proceder com sensibilidade\, discernimento e profissionalismo ao lidar com o luto relacionado ao paciente infantil.Envolvido pela atual diversidade de práticas e valores socioculturais\, o leitor poderá decifrar questões sobre o lugar do hospital no cuidado com a criança enferma e sua família\, por meio de textos que ponderam os cuidados paliativos\, a psicologia\, a linguagem e a comunicação artística\, a dor e o sofrimento reais no luto em pediatria. Destaca-se\, ainda\, uma visão de um novo profissional de saúde que desponta pioneiramente no Sabará: o child life specialist\, ou seja\, o especialista em vida infantil. \n  \nDe vários autores \nEd. Manole \n
URL:https://blog.livrariadavila.com.br/event/luto-em-pediatria-reflexoes-da-equipe-multidisciplinar-do-sabara-hospital-infantil/
LOCATION:Av. Higienópolis\, 618 – Higienópolis\, São Paulo\, SP\, 01238-000\, Brasil
GEO:-23.542049;-46.6577148
X-APPLE-STRUCTURED-LOCATION;VALUE=URI;X-ADDRESS=Av. Higienópolis 618 – Higienópolis São Paulo SP 01238-000 Brasil;X-APPLE-RADIUS=500;X-TITLE=Av. Higienópolis\, 618 – Higienópolis:geo:-46.6577148,-23.542049
CATEGORIES:LANÇAMENTOS,SESSÕES DE AUTÓGRAFOS
END:VEVENT
END:VCALENDAR