BEGIN:VCALENDAR
VERSION:2.0
PRODID:-//VILA - Blog - ECPv4.5.12.2//NONSGML v1.0//EN
CALSCALE:GREGORIAN
METHOD:PUBLISH
X-WR-CALNAME:VILA - Blog
X-ORIGINAL-URL:https://blog.livrariadavila.com.br
X-WR-CALDESC:Events for VILA - Blog
BEGIN:VEVENT
DTSTART;TZID=America/Sao_Paulo:20230923T150000
DTEND;TZID=America/Sao_Paulo:20230923T180000
DTSTAMP:20260420T113419
CREATED:20230919T182017Z
LAST-MODIFIED:20230919T182017Z
UID:119482-1695481200-1695492000@blog.livrariadavila.com.br
SUMMARY:LUTO NO TRABALHO - MARIA LUIZA DIAS - ED. BLUCHER
DESCRIPTION: \n  \nEste livro trata do luto na trajetória da carreira de trabalhadores paulistas\, concebido como um sentimento de pesar frente às perdas\, como as que ocorrem diante de mudanças estratégicas na empresa ou por consequência de alterações na carreira.. Ele é fruto de um estudo realizado para fins de pós-doutoramento no Instituto de Psicologia da Universidade de São Paulo (IPUSP). Amplia o conceito de luto\, seus tipos\, suas fases\, como também denuncia as frágeis condições de elaboração do luto dentro do mundo organizacional. Foram entrevistados gestores e trabalhadores em empresas nacionais\, familiares e multinacionais. As vozes dos trabalhadores revelam o alto sofrimento a que ficam expostos\, sem espaço e tempo para vivenciar a perda\, fator propulsor ao luto complicado. Há urgência de políticas públicas voltadas à promoção da saúde nesse campo. \n
URL:https://blog.livrariadavila.com.br/event/luto-no-trabalho-maria-luiza-dias-ed-blucher/
LOCATION:Av. Higienópolis\, 618 – Higienópolis\, São Paulo\, SP\, 01238-000\, Brasil
GEO:-23.542049;-46.6577148
X-APPLE-STRUCTURED-LOCATION;VALUE=URI;X-ADDRESS=Av. Higienópolis 618 – Higienópolis São Paulo SP 01238-000 Brasil;X-APPLE-RADIUS=500;X-TITLE=Av. Higienópolis\, 618 – Higienópolis:geo:-46.6577148,-23.542049
END:VEVENT
END:VCALENDAR