BEGIN:VCALENDAR
VERSION:2.0
PRODID:-//VILA - Blog - ECPv4.5.12.2//NONSGML v1.0//EN
CALSCALE:GREGORIAN
METHOD:PUBLISH
X-WR-CALNAME:VILA - Blog
X-ORIGINAL-URL:https://blog.livrariadavila.com.br
X-WR-CALDESC:Events for VILA - Blog
BEGIN:VEVENT
DTSTART;TZID=America/Sao_Paulo:20181114T150000
DTEND;TZID=America/Sao_Paulo:20181114T170000
DTSTAMP:20260424T002920
CREATED:20181108T191927Z
LAST-MODIFIED:20181108T200122Z
UID:23448-1542207600-1542214800@blog.livrariadavila.com.br
SUMMARY:Mães na vila: Mindfulness + Mindfulness para crianças
DESCRIPTION:Com Danielle Wang  e Corina Erisman \nApoio: Editora Timo \nO próximo Mães na Vila será um pouco diferente neste mês: intitulado “Mindfulness para bebês”\, o encontro trará duas instrutoras da prática\, Danielle Wang e Corina Erisman\, para uma roda de conversa com mamães e papais. A ideia é discutir a técnica de meditação e seus benefícios quando aplicada a bebês. No caso de pequenos na plateia\, as instrutoras poderão\, inclusive\, aplicar uma vivência prática para o alcance do estado de “atenção plena” e equilíbrio. \nRealizado em parceria com a @Editora Timo\, o projeto #MãesNaLivraria acontece sempre na segunda quarta-feira do mês\, às 15h\, na unidade Fradique da Livraria da Vila. Gratuitos e abertos ao público\, os encontros versam sempre sobre temas do universo materno. \n
URL:https://blog.livrariadavila.com.br/event/maes-na-vila-mindfulness-mindfulness-para-criancas/
LOCATION:Rua Fradique Coutinho\, 915 - Pinheiros\, São Paulo\, São Paulo\, 05416-011\, Brasil
GEO:-23.5592934;-46.6892019
X-APPLE-STRUCTURED-LOCATION;VALUE=URI;X-ADDRESS=Rua Fradique Coutinho 915 - Pinheiros São Paulo São Paulo 05416-011 Brasil;X-APPLE-RADIUS=500;X-TITLE=Rua Fradique Coutinho\, 915 - Pinheiros:geo:-46.6892019,-23.5592934
CATEGORIES:BATE-PAPO
END:VEVENT
END:VCALENDAR