BEGIN:VCALENDAR
VERSION:2.0
PRODID:-//VILA - Blog - ECPv4.5.12.2//NONSGML v1.0//EN
CALSCALE:GREGORIAN
METHOD:PUBLISH
X-WR-CALNAME:VILA - Blog
X-ORIGINAL-URL:https://blog.livrariadavila.com.br
X-WR-CALDESC:Events for VILA - Blog
BEGIN:VEVENT
DTSTART;TZID=America/Sao_Paulo:20240801T150000
DTEND;TZID=America/Sao_Paulo:20240801T170000
DTSTAMP:20260420T171435
CREATED:20240725T124851Z
LAST-MODIFIED:20240725T124851Z
UID:123502-1722524400-1722531600@blog.livrariadavila.com.br
SUMMARY:#MÃESNALIVRARIA - DANI RODRIGUES - ED. TIMO
DESCRIPTION: \n  \nChega Agosto\, chega amamentação e chegam as histórias maternas. No Mães da Livraria de Agosto de 2024\, Dani Rodrigues\, que é mãe\, empresária\, empreendedora\, produtora executiva (and counting) chega em nossa roda para falar sobre sua história materna\, o que significa um “senta que lá vem história”. \nE como é a sua história materna? O que você vem elaborando sobre ela? \nVenha se sentar com a gente em roda para partilhar e troca. O Mães da Livraria é um encontro gratuito da Editora Timo sediado na Livraria da Vila da Fradique Coutinho\, ideal para mães\, bebês e crianças de todas as idades. \n
URL:https://blog.livrariadavila.com.br/event/maesnalivraria-dani-rodrigues-ed-timo/
LOCATION:Rua Fradique Coutinho\, 915 - Pinheiros\, São Paulo\, São Paulo\, 05416-011\, Brasil
GEO:-23.5592934;-46.6892019
X-APPLE-STRUCTURED-LOCATION;VALUE=URI;X-ADDRESS=Rua Fradique Coutinho 915 - Pinheiros São Paulo São Paulo 05416-011 Brasil;X-APPLE-RADIUS=500;X-TITLE=Rua Fradique Coutinho\, 915 - Pinheiros:geo:-46.6892019,-23.5592934
END:VEVENT
END:VCALENDAR