BEGIN:VCALENDAR
VERSION:2.0
PRODID:-//VILA - Blog - ECPv4.5.12.2//NONSGML v1.0//EN
CALSCALE:GREGORIAN
METHOD:PUBLISH
X-WR-CALNAME:VILA - Blog
X-ORIGINAL-URL:https://blog.livrariadavila.com.br
X-WR-CALDESC:Events for VILA - Blog
BEGIN:VEVENT
DTSTART;TZID=America/Sao_Paulo:20240803T160000
DTEND;TZID=America/Sao_Paulo:20240803T190000
DTSTAMP:20260420T170111
CREATED:20240726T201554Z
LAST-MODIFIED:20240726T201554Z
UID:123552-1722700800-1722711600@blog.livrariadavila.com.br
SUMMARY:MAGA SERENA\, PROFETA BOY: POBRE\, NEGRO\, HERÓI\, UM IPÊ DE CADA COR\, OS NÓS EM MIM\, BRUXA LAURA\, A ESCOLA FANTÁSTICA E UMA MENINA UM AVO E UM RIO - KARINA MONTE SANTO\, TERCIO RIBAS TORRES\, ERIANE DANTAS E FERNANDA MORAIS – ED. INVERSO
DESCRIPTION: \n  \nUm livro que une fantasia e conhecimento\, explorando de forma lúdica e rimada um tema fundamental para ser abordado desde a infância – e aprofundado durante toda a vida. \nNa história acompanhamos o encontro entre Valentim\, um menino curioso e cheio de imaginação\, e a maga Serena\, que se apresenta de maneira surpreendente para auxiliá-lo a lidar com as emoções e os sentimentos\, quais: raiva\, medo\, frustração\, ansiedade\, culpa\, vergonha\, ciúme e tristeza. \nMisturando delicadeza e ludicidade\, esta é uma história que nos convida a ampliar o olhar sobre como guiar as crianças nas idas e vindas do sentir de modo acolhedor\, através do afeto\, empatia\, respeito\, conexão e paciência. \n  \n \n  \nPaulo César é um menino de 13 anos que mora em um bairro pobre de uma grande metrópole. Logo cedo\, tem de enfrentar a tragédia de perder seu pai\, vítima de latrocínio. Diante de tanta dor\, ele faz uma oração despretensiosa para que Deus o transforme em um herói. \nCom sua prece atendida\, Paulo César recebe a visita de um anjo\, que lhe concede poderes especiais para serem utilizados com uma única finalidade: fazer o bem. \nMas como fazer o bem quando você está despedaçado pelo luto e pela agonia? \nEnfrentando os dilemas sociais de quem vive uma batalha por dia\, o Profeta Boy embarca em uma jornada sobre violência e redenção. \nAfinal\, para ser um super-herói\, basta fazer o bem. \nPaulo César é um menino de 13 anos que mora em um bairro pobre de uma grande metrópole. Logo cedo\, tem de enfrentar a tragédia de perder seu pai\, vítima de latrocínio. Diante de tanta dor\, ele faz uma oração despretensiosa para que Deus o transforme em um herói. \nCom sua prece atendida\, Paulo César recebe a visita de um anjo\, que lhe concede poderes especiais para serem utilizados com uma única finalidade: fazer o bem. \nMas como fazer o bem quando você está despedaçado pelo luto e pela agonia? \nEnfrentando os dilemas sociais de quem vive uma batalha por dia\, o Profeta Boy embarca em uma jornada sobre violência e redenção. \nAfinal\, para ser um super-herói\, basta fazer o bem. \nPaulo César é um menino de 13 anos que mora em um bairro pobre de uma grande metrópole. Logo cedo\, tem de enfrentar a tragédia de perder seu pai\, vítima de latrocínio. Diante de tanta dor\, ele faz uma oração despretensiosa para que Deus o transforme em um herói. \nCom sua prece atendida\, Paulo César recebe a visita de um anjo\, que lhe concede poderes especiais para serem utilizados com uma única finalidade: fazer o bem. \nMas como fazer o bem quando você está despedaçado pelo luto e pela agonia? \nEnfrentando os dilemas sociais de quem vive uma batalha por dia\, o Profeta Boy embarca em uma jornada sobre violência e redenção. \nAfinal\, para ser um super-herói\, basta fazer o bem. \nPaulo César é um menino de 13 anos que mora em um bairro pobre de uma grande metrópole. Logo cedo\, tem de enfrentar a tragédia de perder seu pai\, vítima de latrocínio. Diante de tanta dor\, ele faz uma oração despretensiosa para que Deus o transforme em um herói. \n  \n \n  \nQuem um dia irá dizer que existe razão nas coisas feitas pelo coração?”\, embalada por canções como essa e em meio a dúvidas colocadas pelo coração\, Babi foi obrigada a se mudar do Rio para Brasília. \nNo auge da sua adolescência e instalada na nova cidade\, precisa enfrentar diferentes dilemas e mais uma grande nova mudança anunciada pela mãe e pelo padrasto — dessa vez menos simples que a localidade. Nesse meio-tempo\, é levada a uma jornada de descoberta de Brasília e de si mesma\, com trilha sonora e muitos porquês\, tendo como cenário o colorido dos ipês\, o céu da capital federal e as águas brilhantes do Lago Paranoá. \nConheça esta história de realidade juvenil\, onde a atuação das amizades e da família é reforçada para o entendimento do adolescente. \n  \n \n  \n“Ela também vinha toda tarde. Ouvindo sua voz\, sucedia em mim um fenômeno: minhas folhas ficavam mais verdes e volumosas. Meus eus se multiplicavam; meus frutos aumentavam e deixavam os vizinhos cheios de sorriso”. \nQuando era só uma mudinha\, o cajueiro encontrou as mãozinhas de quem lhe deu água e acreditou que um dia ele seria muito grande\, motivo de festejo. O tempo passou e o cajueiro virou gigante\, formado de vários “eus”. A menina cresceu e partiu\, mas vieram outras meninas descansar sob seus galhos e dividir com ele suas histórias. \nNeste belo texto\, repleto de encantamento\, a autora nos convida a compreender o que pensa e o que sente essa árvore secular que tem muito a nos ensinar sobre a espera e sobre o amor. \n  \n \n  \nLaura é uma bruxa muito boa e corajosa\, mas nem todos acreditavam na sua bondade — já que é uma bruxa! \nEla mostrará que não nascemos maus\, e o que nos tornamos é uma escolha nossa. Laura é heroína\, mocinha e vilã da própria história. Conheça esta história de empatia em que a autoestima e a autonomia são personagens principais! \n  \n \n  \nQuem se aventurar por essa história será apresentado a criaturas tão valentes quanto mágicas. Vampiros\, fadas\, bruxas\, gigantes e duendes são alunos nesse lugar muito especial. Esses personagens tão peculiares guiarão o leitor até os corredores misteriosos da biblioteca da escola\, descobrirão segredos ocultos e entrarão em uma grande enrascada. \nNão fique de fora e venha desvendar os mistérios por trás das antigas paredes da Escola Fantástica! \n  \n \n  \nUm dia de pescaria une uma menina curiosa\, mas um pouco medrosa\, e um avô disposto a ensinar. Na tranquilidade de um rio\, amor e paciência se unem para abrir um mundo de descobertas para duas gerações. \nUma menina\, um avô e um rio é uma história de afeto sobre as alegrias da curiosidade ao encontrar a sabedoria. \n  \n  \n
URL:https://blog.livrariadavila.com.br/event/maga-serena-profeta-boy-pobre-negro-heroi-um-ipe-de-cada-cor-os-nos-em-mim-bruxa-laura-a-escola-fantastica-e-uma-menina-um-avo-e-um-rio-karina-monte-santo-tercio-ribas-torres-eriane-dantas/
LOCATION:SHIN CA 04\, BLOCO A\, Brasília\, Distrito federal\, 71503-504\, Brasil
END:VEVENT
END:VCALENDAR