BEGIN:VCALENDAR
VERSION:2.0
PRODID:-//VILA - Blog - ECPv4.5.12.2//NONSGML v1.0//EN
CALSCALE:GREGORIAN
METHOD:PUBLISH
X-WR-CALNAME:VILA - Blog
X-ORIGINAL-URL:https://blog.livrariadavila.com.br
X-WR-CALDESC:Events for VILA - Blog
BEGIN:VEVENT
DTSTART;TZID=America/Sao_Paulo:20181010T183000
DTEND;TZID=America/Sao_Paulo:20181010T213000
DTSTAMP:20260422T055320
CREATED:20181001T193104Z
LAST-MODIFIED:20181001T193104Z
UID:22716-1539196200-1539207000@blog.livrariadavila.com.br
SUMMARY:Manual da Gestão para advogados - Vol I e Controladoria Jurídica
DESCRIPTION:Em todos os segmentos da economia existem os chamados fatores-chave de sucesso\, que são aqueles essenciais para a sustentabilidade e crescimento do negócio. No segmento jurídico são dois os fatores-chave: de um lado a gestão (aliada à tecnologia)\, e de outro as pessoas. \nDe Samantha Abini (Coordenadora) e Fernanda Marcondes Corrêa (Org) \nEd. Juruá \n  \n  \n  \n  \n  \n Os desafios e exigências crescentes do mercado da advocacia demandam inovações em gestão. Este livro traz uma das mais recentes e eficazes ferramentas de gestão da produção jurídica\, a Controladoria Jurídica. Implantada adequadamente\, a ferramenta proporciona um ganho expressivo em produtividade\, qualidade\, agilidade e segurança na gestão jurídica. \nDe Samantha Albini  \nEd. Juruá \n
URL:https://blog.livrariadavila.com.br/event/manual-da-gestao-para-advogados-vol-i-e-controladoria-juridica/
LOCATION:Avenida do Batel\, nº 1868 – Loja 314 piso L3\, Curitiba\, Paraná\, 80420-090\, Brasil
GEO:-25.443012;-49.2899507
X-APPLE-STRUCTURED-LOCATION;VALUE=URI;X-ADDRESS=Avenida do Batel nº 1868 – Loja 314 piso L3 Curitiba Paraná 80420-090 Brasil;X-APPLE-RADIUS=500;X-TITLE=Avenida do Batel\, nº 1868 – Loja 314 piso L3:geo:-49.2899507,-25.443012
CATEGORIES:LANÇAMENTOS,SESSÕES DE AUTÓGRAFOS
END:VEVENT
END:VCALENDAR