BEGIN:VCALENDAR
VERSION:2.0
PRODID:-//VILA - Blog - ECPv4.5.12.2//NONSGML v1.0//EN
CALSCALE:GREGORIAN
METHOD:PUBLISH
X-WR-CALNAME:VILA - Blog
X-ORIGINAL-URL:https://blog.livrariadavila.com.br
X-WR-CALDESC:Events for VILA - Blog
BEGIN:VEVENT
DTSTART;TZID=America/Sao_Paulo:20190406T160000
DTEND;TZID=America/Sao_Paulo:20190406T190000
DTSTAMP:20260421T183358
CREATED:20190327T171203Z
LAST-MODIFIED:20190327T171203Z
UID:95854-1554566400-1554577200@blog.livrariadavila.com.br
SUMMARY:Manual de exame físico
DESCRIPTION:Manual de Exame Físico tem por propósito ser uma ferramenta de consulta para o estudante dos cursos de graduação em Medicina que adotam metodologias ativas de aprendizagem desenvolvidas para estimular a autonomia intelectual do aluno e promover o uso de diversas habilidades do pensamento\, como interpretar\, analisar\, sintetizar\, classificar\, relacionar e comparar. \nSeu conteúdo contempla temas como anamnese\, sinais vitais e antropometria\, exame físico dos diferentes sistemas\, e propedêutica da dor\, com informações para a prática da semiologia de forma humanista e científica. As doenças prevalentes na população adulta foram abordadas para contextualizar o exame físico em um cenário real. Com linguagem clara e direta\, esta obra apresenta características de um livro-apostila\, no qual o leitor pode praticar o que aprendeu no caderno de exercícios e nos próprios capítulos. \nDe Fernando Veiga Angélico Jr. e Aspásia Basile Gesteira Souza \nEd. Elsevier \n
URL:https://blog.livrariadavila.com.br/event/manual-de-exame-fisico/
LOCATION:Rua Fradique Coutinho\, 915 - Pinheiros\, São Paulo\, São Paulo\, 05416-011\, Brasil
GEO:-23.5592934;-46.6892019
X-APPLE-STRUCTURED-LOCATION;VALUE=URI;X-ADDRESS=Rua Fradique Coutinho 915 - Pinheiros São Paulo São Paulo 05416-011 Brasil;X-APPLE-RADIUS=500;X-TITLE=Rua Fradique Coutinho\, 915 - Pinheiros:geo:-46.6892019,-23.5592934
CATEGORIES:LANÇAMENTOS,SESSÕES DE AUTÓGRAFOS
END:VEVENT
END:VCALENDAR