BEGIN:VCALENDAR
VERSION:2.0
PRODID:-//VILA - Blog - ECPv4.5.12.2//NONSGML v1.0//EN
CALSCALE:GREGORIAN
METHOD:PUBLISH
X-WR-CALNAME:VILA - Blog
X-ORIGINAL-URL:https://blog.livrariadavila.com.br
X-WR-CALDESC:Events for VILA - Blog
BEGIN:VEVENT
DTSTART;TZID=America/Sao_Paulo:20191212T183000
DTEND;TZID=America/Sao_Paulo:20191212T213000
DTSTAMP:20260421T164047
CREATED:20191206T163059Z
LAST-MODIFIED:20191206T163059Z
UID:107747-1576175400-1576186200@blog.livrariadavila.com.br
SUMMARY:Masc
DESCRIPTION:Romance\, sobre uma família de produtores de seda \, vividas entre Brasil e Itália – antes da 2ª Grande Guerra. \n  \nDe Zorah Maria Athayde Dalcanale \nIndependente \n
URL:https://blog.livrariadavila.com.br/event/masc/
LOCATION:Avenida do Batel\, nº 1868 – Loja 314 piso L3\, Curitiba\, Paraná\, 80420-090\, Brasil
GEO:-25.443012;-49.2899507
X-APPLE-STRUCTURED-LOCATION;VALUE=URI;X-ADDRESS=Avenida do Batel nº 1868 – Loja 314 piso L3 Curitiba Paraná 80420-090 Brasil;X-APPLE-RADIUS=500;X-TITLE=Avenida do Batel\, nº 1868 – Loja 314 piso L3:geo:-49.2899507,-25.443012
CATEGORIES:LANÇAMENTOS,SESSÕES DE AUTÓGRAFOS
END:VEVENT
END:VCALENDAR