BEGIN:VCALENDAR
VERSION:2.0
PRODID:-//VILA - Blog - ECPv4.5.12.2//NONSGML v1.0//EN
CALSCALE:GREGORIAN
METHOD:PUBLISH
X-WR-CALNAME:VILA - Blog
X-ORIGINAL-URL:https://blog.livrariadavila.com.br
X-WR-CALDESC:Events for VILA - Blog
BEGIN:VEVENT
DTSTART;TZID=America/Sao_Paulo:20181021T160000
DTEND;TZID=America/Sao_Paulo:20181021T193000
DTSTAMP:20260420T231351
CREATED:20181008T193725Z
LAST-MODIFIED:20181008T193725Z
UID:22929-1540137600-1540150200@blog.livrariadavila.com.br
SUMMARY:Memorias de Zarabatanas
DESCRIPTION: Com uma abordagem moderna\, Rafael Cortez conta sua história de forma inovadora. Através de crônicas e poesias\, ele narra a passagem do tempo de forma elaborada\, tal qual um artesão das letras\, em que o menino\, ao longo do texto\, vai se transformando em artista. Indo muito além do humor\, Rafael mostra um talento multifacetado\, que nos atinge como um tiro de zarabatana. \nDe Rafael Cortez \nEd. Seoman \nHaverá pocket show (auditório) \n
URL:https://blog.livrariadavila.com.br/event/memorias-de-zarabatanas/
LOCATION:Av. Bartolomeu de Carlos\, nº 230 – Loja 3040/3041\, Guarulhos\, São Paulo\, 07097-420\, Brasil
GEO:-23.4434162;-46.5400798
X-APPLE-STRUCTURED-LOCATION;VALUE=URI;X-ADDRESS=Av. Bartolomeu de Carlos nº 230 – Loja 3040/3041 Guarulhos São Paulo 07097-420 Brasil;X-APPLE-RADIUS=500;X-TITLE=Av. Bartolomeu de Carlos\, nº 230 – Loja 3040/3041:geo:-46.5400798,-23.4434162
CATEGORIES:EVENTOS MUSICAIS,LANÇAMENTOS,SESSÕES DE AUTÓGRAFOS
END:VEVENT
END:VCALENDAR