BEGIN:VCALENDAR
VERSION:2.0
PRODID:-//VILA - Blog - ECPv4.5.12.2//NONSGML v1.0//EN
CALSCALE:GREGORIAN
METHOD:PUBLISH
X-WR-CALNAME:VILA - Blog
X-ORIGINAL-URL:https://blog.livrariadavila.com.br
X-WR-CALDESC:Events for VILA - Blog
BEGIN:VEVENT
DTSTART;TZID=America/Sao_Paulo:20220406T180000
DTEND;TZID=America/Sao_Paulo:20220406T210000
DTSTAMP:20260423T073809
CREATED:20220328T154141Z
LAST-MODIFIED:20220328T154141Z
UID:113310-1649268000-1649278800@blog.livrariadavila.com.br
SUMMARY:MENTE\, MUNDO E CIBORGUES NATURAIS: ANDY CLARK PARA ALÉM DO CÉREBRO
DESCRIPTION:Mente\, mundo e ciborgues naturais: Andy Clark para além do cérebro é um daqueles livros que nasce a partir de um desafio ousado: lançar luz sobre uma tese viva\, em constante movimento e construção\, assim como aquilo que ela mesma postula. A saber: uma mente estendida\, que se mistura naturalmente entre ação e percepção\, entre mundo\, corpo e processos cerebrais e mentais. Uma nova compreensão da cognição que desvela diante de nós um universo uno e\, ao mesmo tempo\, complexo. O passado da evolução\, da nossa intrínseca e oportuna exploração e incorporação do ambiente e de todas as suas ferramentas\, bem como da construção da linguagem como a conhecemos\, unifica-se com o presente de nossos artefatos e tecnologias atuais\, apontando\, por fim\, para um futuro não tão distinto em termos ontológicos: somos naturalmente ciborgues\, sempre misturados\, apoiados\, sustentados e potencializados por tudo o que nos rodeia. É esse o percurso desta obra\, partindo de teorias cerebrocentristas que escolheriam negligenciar a natureza sistêmica da mente\, para desenhar os pilares da mente estendida de Andy Clark\, empurrando-nos para fora das amarras do cérebro\, além de instaurar novos olhares e desafios para a cognição\, para o mundo e para o nosso conhecimento sobre esses constructos. \n
URL:https://blog.livrariadavila.com.br/event/mente-mundo-e-ciborgues-naturais-andy-clark-para-alem-do-cerebro/
LOCATION:Avenida do Batel\, nº 1868 – Loja 314 piso L3\, Curitiba\, Paraná\, 80420-090\, Brasil
GEO:-25.443012;-49.2899507
X-APPLE-STRUCTURED-LOCATION;VALUE=URI;X-ADDRESS=Avenida do Batel nº 1868 – Loja 314 piso L3 Curitiba Paraná 80420-090 Brasil;X-APPLE-RADIUS=500;X-TITLE=Avenida do Batel\, nº 1868 – Loja 314 piso L3:geo:-49.2899507,-25.443012
CATEGORIES:SESSÕES DE AUTÓGRAFOS
END:VEVENT
END:VCALENDAR