BEGIN:VCALENDAR
VERSION:2.0
PRODID:-//VILA - Blog - ECPv4.5.12.2//NONSGML v1.0//EN
CALSCALE:GREGORIAN
METHOD:PUBLISH
X-WR-CALNAME:VILA - Blog
X-ORIGINAL-URL:https://blog.livrariadavila.com.br
X-WR-CALDESC:Events for VILA - Blog
BEGIN:VEVENT
DTSTART;TZID=America/Sao_Paulo:20221118T180000
DTEND;TZID=America/Sao_Paulo:20221118T213000
DTSTAMP:20260422T232153
CREATED:20221027T144253Z
LAST-MODIFIED:20221027T144253Z
UID:115813-1668794400-1668807000@blog.livrariadavila.com.br
SUMMARY:METAVERSO - FELIPE MORAIS E MAYA MATTIAZZO - ED.BENVIRÁ
DESCRIPTION: \n  \nPor que você deve ler um livro sobre o Metaverso? A resposta é simples: é onde aproximadamente 50 milhões de pessoas já circulam e onde empresas de ramos diversos estão faturando bilhões. Longe de ser uma ficção científica ou brincadeira de adolescente\, o Metaverso é uma realidade. De forma clara e didática\, este livro explica o que é\, como funciona e de que forma empresas de vários ramos – como O Boticário\, Nike\, Reserva\, Mercedes-Benz e iFood\, para citar algumas – estão explorando essa nova tecnologia que promete revolucionar ainda mais o consumo\, o mercado de trabalho e a vida das pessoas.Com os especialistas em transformação digital Felipe Morais e Maya Mattiazzo\, você vai aprender: O que é o Metaverso hoje e como ele surgiu. Quais tecnologias formam a base desse mundo\, incluindo blockchain\, criptomoedas\, NFTs e o 5G\, e o que você precisa saber sobre elas. Qual é o perfil de quem está lá e quem vai entrar em breve. Como o Metaverso promete mudar a vida das pessoas num futuro não muito distante. Como as empresas já estão atuando para fortalecer suas marcas. Como você pode acessar o Metaverso e tirar o maior proveito dessa nova realidade.Como dizem os autores: “O Metaverso é o mundo\, só que em estado não físico”. Este é o guia para chegar lá. \n
URL:https://blog.livrariadavila.com.br/event/metaverso-felipe-morais-e-maya-mattiazzo-ed-benvira/
LOCATION:Av. Roque Petroni Júnior\, 1089\, São Paulo\, São Paulo\, 04833001\, Brasil
END:VEVENT
END:VCALENDAR