BEGIN:VCALENDAR
VERSION:2.0
PRODID:-//VILA - Blog - ECPv4.5.12.2//NONSGML v1.0//EN
CALSCALE:GREGORIAN
METHOD:PUBLISH
X-WR-CALNAME:VILA - Blog
X-ORIGINAL-URL:https://blog.livrariadavila.com.br
X-WR-CALDESC:Events for VILA - Blog
BEGIN:VEVENT
DTSTART;TZID=America/Sao_Paulo:20181206T190000
DTEND;TZID=America/Sao_Paulo:20181206T213000
DTSTAMP:20260422T001158
CREATED:20181203T164007Z
LAST-MODIFIED:20181203T164007Z
UID:24123-1544122800-1544131800@blog.livrariadavila.com.br
SUMMARY:Meu jeito de ser mãe - a busca pelo equilíbrio e a leveza na maternidade
DESCRIPTION: Não é novidade que Fernanda Rodrigues é uma das atrizes e apresentadoras de TV mais talentosas da sua geração. O que nem todo mundo sabe é que ela também brilha em outro papel: o de mãe. Apaixonada pela ideia de ter filhos desde pequena\, Fernanda realizou seu sonho quando Luisa nasceu. Logo depois começou a escrever sobre maternidade em um blog e\, na sequência\, teve um menino\, Bento.\nAgora\, Fernanda Rodrigues pariu mais um “filho”: o seu primeiro livro\, no qual narra a experiência como mãe de maneira sensível\, bem-humorada e informativa. Mais do que dizer o que é certo ou errado — afinal\, cada filho é diferente do outro —\, Fernanda deseja dividir suas vivências.\nContando com a consultoria de uma obstetra-ginecologista\, uma pediatra e uma dermatologista\, ela passa pelos principais tópicos relativos à gravidez e à maternidade\, como parto\, amamentação\, alimentação da mãe e dos filhos e todos os conflitos e inseguranças que aparecem pelo caminho. \nDe Fernanda Rodrigues \nEd. Fontanar \n
URL:https://blog.livrariadavila.com.br/event/meu-jeito-de-ser-mae-a-busca-pelo-equilibrio-e-a-leveza-na-maternidade/
LOCATION:Rua Fradique Coutinho\, 915 - Pinheiros\, São Paulo\, São Paulo\, 05416-011\, Brasil
GEO:-23.5592934;-46.6892019
X-APPLE-STRUCTURED-LOCATION;VALUE=URI;X-ADDRESS=Rua Fradique Coutinho 915 - Pinheiros São Paulo São Paulo 05416-011 Brasil;X-APPLE-RADIUS=500;X-TITLE=Rua Fradique Coutinho\, 915 - Pinheiros:geo:-46.6892019,-23.5592934
CATEGORIES:LANÇAMENTOS,SESSÕES DE AUTÓGRAFOS
END:VEVENT
END:VCALENDAR