BEGIN:VCALENDAR
VERSION:2.0
PRODID:-//VILA - Blog - ECPv4.5.12.2//NONSGML v1.0//EN
CALSCALE:GREGORIAN
METHOD:PUBLISH
X-WR-CALNAME:VILA - Blog
X-ORIGINAL-URL:https://blog.livrariadavila.com.br
X-WR-CALDESC:Events for VILA - Blog
BEGIN:VEVENT
DTSTART;TZID=America/Sao_Paulo:20250326T180000
DTEND;TZID=America/Sao_Paulo:20250326T213000
DTSTAMP:20260421T092216
CREATED:20250318T211529Z
LAST-MODIFIED:20250318T211529Z
UID:126643-1743012000-1743024600@blog.livrariadavila.com.br
SUMMARY:MINHA MÃE É UM SUCESSO - ORG. MARIA ALICIA PERALTA - ED. LABRADOR
DESCRIPTION: \nComo conciliar uma carreira de sucesso com a maternidade? Este livro reúne 21 relatos de mães que compartilham desafios\, escolhas e sacrifícios na busca por esse equilíbrio. Traz ainda uma perspectiva inédita a essa jornada: a emocionante narrativa dos filhos dessas executivas\, dando voz às suas experiências sobre como o percurso profissional das mães influenciou suas próprias trajetórias. Vistas de fora como poderosas\, essas mulheres enfrentam muitas vezes julgamentos e expectativas desiguais\, inclusive delas próprias: enquanto a ascensão profissional dos homens é amplamente enaltecida e incentivada\, aquelas que buscam a realização em suas carreiras podem ser taxadas de egoístas e negligentes com os filhos. Com franqueza e empatia\, as autoras convidam à reflexão sobre a importância de celebrarmos o sucesso profissional materno\, para além do dilema da culpa e do medo de “não dar conta” no trabalho e em casa. Esta é uma obra reveladora sobre mulheres que ousaram ser mães e líderes ao mesmo tempo\, inspirando e empoderando seus filhos através do exemplo. \n
URL:https://blog.livrariadavila.com.br/event/minha-mae-e-um-sucesso-org-maria-alicia-peralta-ed-labrador/
LOCATION:Rua Fradique Coutinho\, 915 - Pinheiros\, São Paulo\, São Paulo\, 05416-011\, Brasil
GEO:-23.5592934;-46.6892019
X-APPLE-STRUCTURED-LOCATION;VALUE=URI;X-ADDRESS=Rua Fradique Coutinho 915 - Pinheiros São Paulo São Paulo 05416-011 Brasil;X-APPLE-RADIUS=500;X-TITLE=Rua Fradique Coutinho\, 915 - Pinheiros:geo:-46.6892019,-23.5592934
CATEGORIES:LANÇAMENTOS,SESSÕES DE AUTÓGRAFOS
END:VEVENT
END:VCALENDAR