BEGIN:VCALENDAR
VERSION:2.0
PRODID:-//VILA - Blog - ECPv4.5.12.2//NONSGML v1.0//EN
CALSCALE:GREGORIAN
METHOD:PUBLISH
X-WR-CALNAME:VILA - Blog
X-ORIGINAL-URL:https://blog.livrariadavila.com.br
X-WR-CALDESC:Events for VILA - Blog
BEGIN:VEVENT
DTSTART;TZID=America/Sao_Paulo:20181124T150000
DTEND;TZID=America/Sao_Paulo:20181124T180000
DTSTAMP:20260420T231357
CREATED:20181015T174922Z
LAST-MODIFIED:20181015T174940Z
UID:23022-1543071600-1543082400@blog.livrariadavila.com.br
SUMMARY:Minha vó saiu de férias
DESCRIPTION:A história apresenta a culinária de Minas Gerais através da figura da avó que cozinha com afeto e desperta a memória olfativa que quem conhece os ingredientes….Cantar\, cozinhar\, olhar\, salpicar\, experimentar\, sentir…Assim era a cozinha de Dulce…culinária recheada de histórias. \nDe Adriana Felicissimo \nIndependente \nHaverá bate-papo com a autora \n
URL:https://blog.livrariadavila.com.br/event/minha-vo-saiu-de-ferias/
CATEGORIES:LANÇAMENTOS,SESSÕES DE AUTÓGRAFOS
END:VEVENT
END:VCALENDAR