BEGIN:VCALENDAR
VERSION:2.0
PRODID:-//VILA - Blog - ECPv4.5.12.2//NONSGML v1.0//EN
CALSCALE:GREGORIAN
METHOD:PUBLISH
X-WR-CALNAME:VILA - Blog
X-ORIGINAL-URL:https://blog.livrariadavila.com.br
X-WR-CALDESC:Events for VILA - Blog
BEGIN:VEVENT
DTSTART;TZID=America/Sao_Paulo:20221020T190000
DTEND;TZID=America/Sao_Paulo:20221020T213000
DTSTAMP:20260420T084433
CREATED:20221018T164204Z
LAST-MODIFIED:20221018T164204Z
UID:115661-1666292400-1666301400@blog.livrariadavila.com.br
SUMMARY:MINISTÉRIO PÚBLICO ESTRATÉGICO - VIOLÊNCIA DE GÊNERO - 1ª ED - 2022 -  ORG. MICHEL BETENJANE ROMANO - ED. FOCO
DESCRIPTION: \n  \n\n\n\n\nSobre a obra Ministério Público Estratégico – Violência de Gênero – 1ª Ed – 2022 O Ministério Público como instituição permanente\, essencial à função jurisdicional do Estado\, incumbido da defesa da ordem jurídica\, do regime democrático e dos interesses sociais e individuais indisponíveis\, sempre foi campo fértil de ideias e de protagonismos em inúmeras transformações jurídicas e sociais ao longo do tempo. Já a sociedade e o Estado encontram-se em constante movimento\, devendo debater questões afetas a todos\, sem qualquer tipo de distinção\, visando ao aperfeiçoamento e à pacificação do convívio social. Partindo destas premissas\, o Ministério Público do Estado de São Paulo – MPSP apresenta uma obra coletiva sobre temas atuais de grande relevância para a Instituição e que despertam o interesse de toda a sociedade. A coletânea que ora se inicia\, intitulada “MP Estratégico – MP do Futuro”\, tem por objetivo promover a discussão sobre temas do cotidiano de integrantes da Instituição\, mas não só destes: especialistas\, acadêmicos e doutrinadores também se posicionam sobre a importância dos assuntos tratados. As autoras e autores deste trabalho se debruçaram sobre matérias que incitam contínua e aprofundada discussão\, não apenas por parte da sociedade\, mas também pelas Instituições de Estado\, abordando os assuntos sob diversas perspectivas. Em seu primeiro volume\, a citada coletânea abordará a “Violência de Gênero”\, assunto que engloba diversos campos de discussão\, tais como: violência no ambiente virtual\, síndrome pós-traumática\, violência obstétrica\, violência psicológica\, violência física; além de trazer à baila a visão de uma construção estratégica de Paz\, com a Justiça Restaurativa e as relações de gênero. Michel Betenjane Romano\n\n\n\n\n
URL:https://blog.livrariadavila.com.br/event/ministerio-publico-estrategico-violencia-de-genero-1a-ed-2022-org-michel-betenjane-romano-ed-foco/
LOCATION:Alameda Lorena\, 1501\, São Paulo\, São Paulo\, 01424-005\, Brasil
END:VEVENT
END:VCALENDAR