BEGIN:VCALENDAR
VERSION:2.0
PRODID:-//VILA - Blog - ECPv4.5.12.2//NONSGML v1.0//EN
CALSCALE:GREGORIAN
METHOD:PUBLISH
X-WR-CALNAME:VILA - Blog
X-ORIGINAL-URL:https://blog.livrariadavila.com.br
X-WR-CALDESC:Events for VILA - Blog
BEGIN:VEVENT
DTSTART;TZID=America/Sao_Paulo:20240824T160000
DTEND;TZID=America/Sao_Paulo:20240824T180000
DTSTAMP:20260420T084304
CREATED:20240821T155717Z
LAST-MODIFIED:20240821T155717Z
UID:123847-1724515200-1724522400@blog.livrariadavila.com.br
SUMMARY:MODERNOS BANDEIRANTES\, ANTIGOS INTERESSES - THAYS FREGOLENT DE ALMEIDA – ED. ALAMEDA
DESCRIPTION:\n\n\n\n\n\nO leitor tem em suas mãos tudo que se espera de um livro de História – um texto bem escrito\, uma pesquisa empírica de fôlego\, uma fina articulação de temas diversos e\, principalmente\, uma perspectiva singular sobre um período já tão discutido na Historiografia brasileira. Thays se aproxima da Marcha para Oeste e da Expedição Roncador-Xingu com um olhar atento aos interesses do empresariado paulista na empreitada. Isso permite à autora explorar novas conexões entre o Estado Novo e o grande capital\, demonstrado como essas expedições estatais se enredavam com dinâmicas regionais paulistas e com os projetos de próceres do capitalismo bandeirante\, como Roberto Simonsen. O livro logra também um equilíbrio difícil\, que é o de combinar uma boa exposição narrativa que permite ao leitor se situar na história sendo contada com uma análise densa de questões historiográficas. Assim\, os que pouco sabem a respeito da Roncador-Xingu irão terminar a leitura com uma boa ideia do que foi essa expedição\, enquanto o público especializado poderá conhecer uma nova interpretação sobre a história do país em período já tão estudado. Finalmente\, o estudo de Thays permite pensar dilemas contemporâneos do Brasil\, em especial a persistência da visão colonial na gestão de terras e de povos nos mais variados cantos do país. João Marcelo Ehlert Maia Sobre a autora: Thays é graduada e mestre (bolsista capes) em História na PUC/SP. Recebeu menção honrosa no 30º Simpósio Nacional de História na Pesquisa de Iniciação Científica (bolsista cnpq) cujo interesse era a questão indígena em meio aos trabalhos da Expedição Roncador-Xingu. Possui pesquisas nas áreas de História do Brasil República\, História Indígena e Historiografia Brasileira.\n\n\n\n\n
URL:https://blog.livrariadavila.com.br/event/modernos-bandeirantes-antigos-interesses-thays-fregolent-de-almeida-ed-alameda/
LOCATION:Rua Fradique Coutinho\, 915 - Pinheiros\, São Paulo\, São Paulo\, 05416-011\, Brasil
GEO:-23.5592934;-46.6892019
X-APPLE-STRUCTURED-LOCATION;VALUE=URI;X-ADDRESS=Rua Fradique Coutinho 915 - Pinheiros São Paulo São Paulo 05416-011 Brasil;X-APPLE-RADIUS=500;X-TITLE=Rua Fradique Coutinho\, 915 - Pinheiros:geo:-46.6892019,-23.5592934
END:VEVENT
END:VCALENDAR