BEGIN:VCALENDAR
VERSION:2.0
PRODID:-//VILA - Blog - ECPv4.5.12.2//NONSGML v1.0//EN
CALSCALE:GREGORIAN
METHOD:PUBLISH
X-WR-CALNAME:VILA - Blog
X-ORIGINAL-URL:https://blog.livrariadavila.com.br
X-WR-CALDESC:Events for VILA - Blog
BEGIN:VEVENT
DTSTART;TZID=America/Sao_Paulo:20190308T183000
DTEND;TZID=America/Sao_Paulo:20190308T213000
DTSTAMP:20260420T154143
CREATED:20190220T200939Z
LAST-MODIFIED:20190220T200939Z
UID:93471-1552069800-1552080600@blog.livrariadavila.com.br
SUMMARY:Mulheres iguais na diferença - a igualdade de gênero no mercado de trabalho brasileiro e a eficácia dos direitos fundamentais
DESCRIPTION:A presente obra nos brinda com um conjunto articulado de situações questionadoras das bases conceituais dos direitos humanos da igualdade das mulheres no mercado de trabalho. As pesquisas realizadas revelam que se no momento atual se constata a existência de normas que reconhecem e promovem a igualdade de oportunidades e tratamento no emprego entre homens e mulheres\, há uma distância entre a igualdade formal e a igualdade real. Trata-se de uma obra crítica\, na qual se destaca que a mulher continua como única responsável pelas tarefas domésticas e familiares e os ingressos obtidos pela mesma são considerados meros complementos da renda familiar. E em que pese as mulheres possuírem os maiores níveis de educação e formação profissional\, não são compensadas nas condições de emprego\, ocupação de cargos e remuneração. \nDe Viviane Teles de Magalhães Araújo \nEd. Lumen Juris \n
URL:https://blog.livrariadavila.com.br/event/mulheres-iguais-na-diferenca-a-igualdade-de-genero-no-mercado-de-trabalho-brasileiro-e-a-eficacia-dos-direitos-fundamentais/
LOCATION:Avenida do Batel\, nº 1868 – Loja 314 piso L3\, Curitiba\, Paraná\, 80420-090\, Brasil
GEO:-25.443012;-49.2899507
X-APPLE-STRUCTURED-LOCATION;VALUE=URI;X-ADDRESS=Avenida do Batel nº 1868 – Loja 314 piso L3 Curitiba Paraná 80420-090 Brasil;X-APPLE-RADIUS=500;X-TITLE=Avenida do Batel\, nº 1868 – Loja 314 piso L3:geo:-49.2899507,-25.443012
CATEGORIES:LANÇAMENTOS,SESSÕES DE AUTÓGRAFOS
END:VEVENT
END:VCALENDAR