BEGIN:VCALENDAR
VERSION:2.0
PRODID:-//VILA - Blog - ECPv4.5.12.2//NONSGML v1.0//EN
CALSCALE:GREGORIAN
METHOD:PUBLISH
X-WR-CALNAME:VILA - Blog
X-ORIGINAL-URL:https://blog.livrariadavila.com.br
X-WR-CALDESC:Events for VILA - Blog
BEGIN:VEVENT
DTSTART;TZID=America/Sao_Paulo:20240405T180000
DTEND;TZID=America/Sao_Paulo:20240405T210000
DTSTAMP:20260419T120611
CREATED:20240326T183215Z
LAST-MODIFIED:20240326T183227Z
UID:121729-1712340000-1712350800@blog.livrariadavila.com.br
SUMMARY:MULHERES NA DEFESA - JOCIRENE NASCIMENTO DAS CHAGAS E ANDRÉIA ROMA E COAUTORAS – ED. LEADER
DESCRIPTION: \n  \nEsta obra pioneira revela as histórias inspiradoras de mulheres corajosas\, cujo comprometimento e resiliência são fundamentais para a segurança global. Explore os bastidores das trajetórias dessas líderes exemplares\, desbravadoras em um campo muitas vezes desafiador. Uma leitura envolvente que destaca a notável contribuição feminina para a defesa e segurança. Abra as páginas do Volume I e descubra a força inabalável das mulheres na linha de frente da proteção e paz. \n
URL:https://blog.livrariadavila.com.br/event/mulheres-na-defesa-jocirene-nascimento-das-chagas-e-andreia-roma-e-coautoras-ed-leader/
LOCATION:Rua Fradique Coutinho\, 915 - Pinheiros\, São Paulo\, São Paulo\, 05416-011\, Brasil
GEO:-23.5592934;-46.6892019
X-APPLE-STRUCTURED-LOCATION;VALUE=URI;X-ADDRESS=Rua Fradique Coutinho 915 - Pinheiros São Paulo São Paulo 05416-011 Brasil;X-APPLE-RADIUS=500;X-TITLE=Rua Fradique Coutinho\, 915 - Pinheiros:geo:-46.6892019,-23.5592934
END:VEVENT
END:VCALENDAR