BEGIN:VCALENDAR
VERSION:2.0
PRODID:-//VILA - Blog - ECPv4.5.12.2//NONSGML v1.0//EN
CALSCALE:GREGORIAN
METHOD:PUBLISH
X-WR-CALNAME:VILA - Blog
X-ORIGINAL-URL:https://blog.livrariadavila.com.br
X-WR-CALDESC:Events for VILA - Blog
BEGIN:VEVENT
DTSTART;TZID=America/Sao_Paulo:20231208T180000
DTEND;TZID=America/Sao_Paulo:20231208T210000
DTSTAMP:20260423T150905
CREATED:20231130T201820Z
LAST-MODIFIED:20231204T210249Z
UID:120531-1702058400-1702069200@blog.livrariadavila.com.br
SUMMARY:MULHERES QUE SE AMA VOL. 2 - LILIANE SILVA\, ANNA MAY\, ESTELAMARIS\, LUANA CLAUDINO E DEISE CASTILHO - ED. CHAVE
DESCRIPTION: \n  \nO livro ” Mulheres que se amam volume.2″ faz parte do MSA Movimento Mulheres que se amam\, que reúne mais de 300 Especialistas em Autoestima com a missão de ajudar mulheres que estão sofrendo em silêncio as mutias dores ocasionadas pelo baixo nível de autoestima e de inteligência emocional. Elas trabalham o empoderamemento da mulher a partir da Cura Emocional e da construção do Amor próprio. Nesta obra\, mais de 30 especialistas contam como transformaram suas vidas quando escolheram se amar e confiar em si mesmas\, Cada história é um testemunho inspirador de como a autoesitma pode ser aprendida e fortalecida\, capacitando as mulheres a conquistarem sua independência e a superarem desafios como: relações abusivas\, dependência emocional\, violência doméstica\, depressão\, ansiedade\, medo\, insegurança\, procrastinação e complexidades da maternidade.. Compatilhando segredos profundos\, este livro é um farol de esperança para todas as mulheres que desejam reconstruir suas vidas com dignidade\, força e amor próprio. Boa leitura! \n
URL:https://blog.livrariadavila.com.br/event/mulheres-que-se-ama-vol-2-liliane-silva-anna-may-estelamaris-luana-claudino-e-deise-castilho/
LOCATION:Av. Roque Petroni Júnior\, 1089\, São Paulo\, São Paulo\, 04833001\, Brasil
END:VEVENT
END:VCALENDAR