BEGIN:VCALENDAR
VERSION:2.0
PRODID:-//VILA - Blog - ECPv4.5.12.2//NONSGML v1.0//EN
CALSCALE:GREGORIAN
METHOD:PUBLISH
X-WR-CALNAME:VILA - Blog
X-ORIGINAL-URL:https://blog.livrariadavila.com.br
X-WR-CALDESC:Events for VILA - Blog
BEGIN:VEVENT
DTSTART;TZID=America/Sao_Paulo:20240819T190000
DTEND;TZID=America/Sao_Paulo:20240819T213000
DTSTAMP:20260420T101734
CREATED:20240805T133707Z
LAST-MODIFIED:20240819T160324Z
UID:123621-1724094000-1724103000@blog.livrariadavila.com.br
SUMMARY:NADA MAIS SERÁ COMO ANTES - MIGUEL NICOLELIS – ED. PLANETA
DESCRIPTION:\n\n\n\n\n\nPrimeira ficção científica de um dos maiores cientistas brasileiros! Uma ameaça sem precedentes\, uma rede de conspiradores poderosos e dispostos a tudo… e apenas uma neurocientista e um matemático podem salvar a humanidade. Em um mundo que já começa a colapsar pela falta de cuidado com o meio ambiente\, uma catástrofe sem precedentes na história moderna se aproxima\, trazendo consigo o poder de destruir toda a civilização eletrônico-digital. Momentos antes do impacto\, um matemático e uma neurocientista\, tio e sobrinha\, tentam lidar ao mesmo tempo com seus dilemas pessoais e o possível colapso do planeta. Em paralelo\, uma enorme conspiração mundial\, com seus próprios interesses e ambições\, está disposta a controlar as mentes e os destinos da humanidade. Em sua estreia na ficção científica\, o neurocientista Miguel Nicolelis mistura cientistas\, políticos\, personagens do mundo financeiro\, figuras históricas e outras inventadas para descrever o impacto de um evento cataclísmico\, cujo potencial de destruição é quase inimaginável. Nada mais será como antes nos apresenta um futuro muito próximo e possível – talvez até demais –\, servindo tanto de alerta como de um caminho de esperança.\n\n\n\n\n
URL:https://blog.livrariadavila.com.br/event/nada-mais-sera-como-antes-miguel-nicolelis-ed-planeta/
LOCATION:Rua Fradique Coutinho\, 915 - Pinheiros\, São Paulo\, São Paulo\, 05416-011\, Brasil
GEO:-23.5592934;-46.6892019
X-APPLE-STRUCTURED-LOCATION;VALUE=URI;X-ADDRESS=Rua Fradique Coutinho 915 - Pinheiros São Paulo São Paulo 05416-011 Brasil;X-APPLE-RADIUS=500;X-TITLE=Rua Fradique Coutinho\, 915 - Pinheiros:geo:-46.6892019,-23.5592934
END:VEVENT
END:VCALENDAR