BEGIN:VCALENDAR
VERSION:2.0
PRODID:-//VILA - Blog - ECPv4.5.12.2//NONSGML v1.0//EN
CALSCALE:GREGORIAN
METHOD:PUBLISH
X-WR-CALNAME:VILA - Blog
X-ORIGINAL-URL:https://blog.livrariadavila.com.br
X-WR-CALDESC:Events for VILA - Blog
BEGIN:VEVENT
DTSTART;TZID=America/Sao_Paulo:20191020T160000
DTEND;TZID=America/Sao_Paulo:20191020T190000
DTSTAMP:20260421T194338
CREATED:20191003T144602Z
LAST-MODIFIED:20191003T144602Z
UID:99586-1571587200-1571598000@blog.livrariadavila.com.br
SUMMARY:Não me julgue pela capa
DESCRIPTION: \nEste livro só quer te mostrar que você não está sozinho. Que eu\, Matheus\, também sinto o mesmo peito acelerado que você\, as mesmas crises que envolvem um bilhão de sentimentos e sensações\, que passo noites inteiras sem dormir\, que tenho inseguranças gritantes pelos motivos mais diversos\, por mais que eu não tenha beijado as mesmas bocas\, por mais que eu não tenha levado as mesmas injeções\, por mais que eu não tenha tirado as mesmas notas vermelhas que você. E\, como ansioso\, sei que\, às vezes\, isso é tudo que a gente precisa ouvir – que não está só. Então\, só quero reforçar: você não está sozinho. Escrevi este livro para encontrar pessoas parecidas comigo. Que bom que\, agora\, eu encontrei você. Este livro se propõe a nos oferecer um olhar amoroso sobre\, a ansiedade\, esse mal que tanto nos aflige. Aliás\, Matheus Rocha só isto tem feito: lançar amorosidades sobre o cotidiano – Padre Fábio de Melo. \n  \nDe Matheus Rocha \nEd. Outro Planeta \n  \nLançamento e bate-papo \n
URL:https://blog.livrariadavila.com.br/event/nao-me-julgue-pela-capa/
LOCATION:Rua Fradique Coutinho\, 915 - Pinheiros\, São Paulo\, São Paulo\, 05416-011\, Brasil
GEO:-23.5592934;-46.6892019
X-APPLE-STRUCTURED-LOCATION;VALUE=URI;X-ADDRESS=Rua Fradique Coutinho 915 - Pinheiros São Paulo São Paulo 05416-011 Brasil;X-APPLE-RADIUS=500;X-TITLE=Rua Fradique Coutinho\, 915 - Pinheiros:geo:-46.6892019,-23.5592934
CATEGORIES:BATE-PAPO,LANÇAMENTOS,SESSÕES DE AUTÓGRAFOS
END:VEVENT
END:VCALENDAR