BEGIN:VCALENDAR
VERSION:2.0
PRODID:-//VILA - Blog - ECPv4.5.12.2//NONSGML v1.0//EN
CALSCALE:GREGORIAN
METHOD:PUBLISH
X-WR-CALNAME:VILA - Blog
X-ORIGINAL-URL:https://blog.livrariadavila.com.br
X-WR-CALDESC:Events for VILA - Blog
BEGIN:VEVENT
DTSTART;TZID=America/Sao_Paulo:20221125T190000
DTEND;TZID=America/Sao_Paulo:20221125T210000
DTSTAMP:20260422T143339
CREATED:20221121T150658Z
LAST-MODIFIED:20221121T150658Z
UID:116092-1669402800-1669410000@blog.livrariadavila.com.br
SUMMARY:NARRATIVAS FEMININAS\, O COLAR DA MINHA AMADA E A ÚLTIMA CAMADA - TAMAR GARCIA DE ARAÚJO DIAS\, GUIDO CAVALCANTI E RENATA BARROZO BAGLIOLI - ED. INVERSO
DESCRIPTION: \n  \nMemórias e vestígios do passado transformados em histórias que marcam para sempre o presente. Espaço físico e temporal que torna visíveis lugares de experiência cotidiana\, por vezes simbólica e oculta\, de muitas mulheres. O feminino verbalizado com toda a sua poderosa força coletiva. \n  \n \n  \n“Tudo o que vejo\, penso ou sinto pode ser traduzido em palavras lançadas no papel\, escolho aquelas que melhor expressem o meu sentimento\, a minha visão. Contudo\, tenho que fazer chegar aos outros\, porque as palavras transbordam\, não cabem dentro de mim\, necessito deixar jorrar.” \n  \n \n  \nA Última Camada traz histórias picantes\, emocionantes\, dilacerantes e divertidas dos personagens que nada mais são do que fragmentos de pessoas reais\, de nós mesmos\, de nosso alter ego. \n
URL:https://blog.livrariadavila.com.br/event/narrativas-femininas-o-colar-da-minha-amada-e-a-ultima-camada-tamar-garcia-de-araujo-dias-guido-cavalcanti-e-renata-barrozo-baglioli-ed-inverso/
LOCATION:Rua Pamplona\, 1704\, São Paulo\, São Paulo\, 01405-000\, Brasil
GEO:-23.5702482;-46.6612794
X-APPLE-STRUCTURED-LOCATION;VALUE=URI;X-ADDRESS=Rua Pamplona 1704 São Paulo São Paulo 01405-000 Brasil;X-APPLE-RADIUS=500;X-TITLE=Rua Pamplona\, 1704:geo:-46.6612794,-23.5702482
END:VEVENT
END:VCALENDAR