BEGIN:VCALENDAR
VERSION:2.0
PRODID:-//VILA - Blog - ECPv4.5.12.2//NONSGML v1.0//EN
CALSCALE:GREGORIAN
METHOD:PUBLISH
X-WR-CALNAME:VILA - Blog
X-ORIGINAL-URL:https://blog.livrariadavila.com.br
X-WR-CALDESC:Events for VILA - Blog
BEGIN:VEVENT
DTSTART;TZID=America/Sao_Paulo:20250424T180000
DTEND;TZID=America/Sao_Paulo:20250424T210000
DTSTAMP:20260422T191540
CREATED:20250314T124850Z
LAST-MODIFIED:20250314T124850Z
UID:126567-1745517600-1745528400@blog.livrariadavila.com.br
SUMMARY:NATUREZA HUMANA E POLÍTICA - IARA GUBERT - ED. LUMEN JURIS
DESCRIPTION: \nPara um jurista entender o direito moderno é imprescindível entender a modernidade como um todo. O exercício de Iara Gubert\, assim como o de Leo Strauss e de Pierre Manent\, é um exercício para entender a modernidade\, só que aqui nesse caso é feito por uma jurista. Assim\, em certa medida\, o objetivo desse livro não é apenas entender a modernidade em si ou\, melhor dito\, as bases antropológicas que fundamentam certas vertentes da modernidade\, mas sim entender as bases antropológicas que fundamentam o nosso direito.\nAgora\, se é verdade que Strauss – e Manent parece seguir a mesma linha – entendia a modernidade\, enquanto fenômeno integrado\, como uma ruptura com a tradição do pensamento político clássico\, cabe pontuar que também é verdade\, e deve ser sempre dito\, que ele\, ao final do seu The Three Waves of Modernity\, arremata destacando a superioridade da democracia liberal moderna pois essa\, justamente\, possui sua força em vista do seu “apoio poderoso em um modo de pensar que não pode\, de modo algum\, ser chamado de moderno: o pensamento pré-moderno de nossa tradição ocidental”. Assim como a modernidade só possui sentido quando lida em vista de uma tradição que provém do período clássico\, o direito moderno também demanda tal movimento. Apenas desse modo\, com bases sólidas\, que será possível entender – e redimir – a experiência jurídica. Explicitar pressupostos antropológicos da modernidade\, como faz Iara\, é uma forma de destacar a necessidade de redenção do direito moderno. \nDo Prefácio de Bruno Irion Coletto \n
URL:https://blog.livrariadavila.com.br/event/natureza-humana-e-politica-iara-gubert-ed-lumen-juris/
LOCATION:Avenida do Batel\, nº 1868 – Loja 314 piso L3\, Curitiba\, Paraná\, 80420-090\, Brasil
GEO:-25.443012;-49.2899507
X-APPLE-STRUCTURED-LOCATION;VALUE=URI;X-ADDRESS=Avenida do Batel nº 1868 – Loja 314 piso L3 Curitiba Paraná 80420-090 Brasil;X-APPLE-RADIUS=500;X-TITLE=Avenida do Batel\, nº 1868 – Loja 314 piso L3:geo:-49.2899507,-25.443012
CATEGORIES:LANÇAMENTOS,SESSÕES DE AUTÓGRAFOS
END:VEVENT
END:VCALENDAR