BEGIN:VCALENDAR
VERSION:2.0
PRODID:-//VILA - Blog - ECPv4.5.12.2//NONSGML v1.0//EN
CALSCALE:GREGORIAN
METHOD:PUBLISH
X-WR-CALNAME:VILA - Blog
X-ORIGINAL-URL:https://blog.livrariadavila.com.br
X-WR-CALDESC:Events for VILA - Blog
BEGIN:VEVENT
DTSTART;TZID=America/Sao_Paulo:20181018T190000
DTEND;TZID=America/Sao_Paulo:20181018T213000
DTSTAMP:20260423T113618
CREATED:20180917T155056Z
LAST-MODIFIED:20180917T155056Z
UID:22473-1539889200-1539898200@blog.livrariadavila.com.br
SUMMARY:Negócioterapia - um guia para o seu sucesso
DESCRIPTION:De Mirelle G. Zanotto \nIndependente \n
URL:https://blog.livrariadavila.com.br/event/negocioterapia-um-guia-para-o-seu-sucesso/
LOCATION:Av. Juscelino Kubitschek\, 2041 - Itaim Bibi\, São Paulo\, São Paulo\, 04543-011\, Brasil
GEO:-23.5914219;-46.6898224
X-APPLE-STRUCTURED-LOCATION;VALUE=URI;X-ADDRESS=Av. Juscelino Kubitschek 2041 - Itaim Bibi São Paulo São Paulo 04543-011 Brasil;X-APPLE-RADIUS=500;X-TITLE=Av. Juscelino Kubitschek\, 2041 - Itaim Bibi:geo:-46.6898224,-23.5914219
CATEGORIES:LANÇAMENTOS,SESSÕES DE AUTÓGRAFOS
END:VEVENT
END:VCALENDAR