BEGIN:VCALENDAR
VERSION:2.0
PRODID:-//VILA - Blog - ECPv4.5.12.2//NONSGML v1.0//EN
CALSCALE:GREGORIAN
METHOD:PUBLISH
X-WR-CALNAME:VILA - Blog
X-ORIGINAL-URL:https://blog.livrariadavila.com.br
X-WR-CALDESC:Events for VILA - Blog
BEGIN:VEVENT
DTSTART;TZID=America/Sao_Paulo:20190330T160000
DTEND;TZID=America/Sao_Paulo:20190330T190000
DTSTAMP:20260420T132852
CREATED:20190220T204638Z
LAST-MODIFIED:20190220T204638Z
UID:93515-1553961600-1553972400@blog.livrariadavila.com.br
SUMMARY:Nina tem medo de palhaço
DESCRIPTION: Nina é uma menina que mora em um campo de refugiados. Ela tem medo de palhaço… Mas e de palhaça? Quando conhece Jurubeba\, a palhaça\, Nina é obrigada a enfrentar seus medos e aprende que nossa casa pode ser em vários lugares e em muitas coisas – como a risada! \nDe Walter de Souza e ilustrações de Mariana Fujisawa \nEd. Kapulana \n
URL:https://blog.livrariadavila.com.br/event/nina-tem-medo-de-palhaco/
LOCATION:Rua Fradique Coutinho\, 915 - Pinheiros\, São Paulo\, São Paulo\, 05416-011\, Brasil
GEO:-23.5592934;-46.6892019
X-APPLE-STRUCTURED-LOCATION;VALUE=URI;X-ADDRESS=Rua Fradique Coutinho 915 - Pinheiros São Paulo São Paulo 05416-011 Brasil;X-APPLE-RADIUS=500;X-TITLE=Rua Fradique Coutinho\, 915 - Pinheiros:geo:-46.6892019,-23.5592934
CATEGORIES:LANÇAMENTOS,SESSÕES DE AUTÓGRAFOS
END:VEVENT
END:VCALENDAR