BEGIN:VCALENDAR
VERSION:2.0
PRODID:-//VILA - Blog - ECPv4.5.12.2//NONSGML v1.0//EN
CALSCALE:GREGORIAN
METHOD:PUBLISH
X-WR-CALNAME:VILA - Blog
X-ORIGINAL-URL:https://blog.livrariadavila.com.br
X-WR-CALDESC:Events for VILA - Blog
BEGIN:VEVENT
DTSTART;TZID=America/Sao_Paulo:20260423T190000
DTEND;TZID=America/Sao_Paulo:20260423T200000
DTSTAMP:20260421T012224
CREATED:20260420T204959Z
LAST-MODIFIED:20260420T204959Z
UID:133548-1776970800-1776974400@blog.livrariadavila.com.br
SUMMARY:NOITE DAS LIVRARIAS - AVENIDA PAULISTA
DESCRIPTION: \nAvenida Paulista: Batalha de Poesias com Slam das Minas – SP\nHorário: 19h às 20h00 \n  \n \n
URL:https://blog.livrariadavila.com.br/event/noite-das-livrarias-avenida-paulista/
LOCATION:Avenida Paulista\, 1.063\, São Paulo\, SP\, São Paulo\, 01311-200\, Brasil
CATEGORIES:SARAU
END:VEVENT
END:VCALENDAR