BEGIN:VCALENDAR
VERSION:2.0
PRODID:-//VILA - Blog - ECPv4.5.12.2//NONSGML v1.0//EN
CALSCALE:GREGORIAN
METHOD:PUBLISH
X-WR-CALNAME:VILA - Blog
X-ORIGINAL-URL:https://blog.livrariadavila.com.br
X-WR-CALDESC:Events for VILA - Blog
BEGIN:VEVENT
DTSTART;TZID=America/Sao_Paulo:20240224T180000
DTEND;TZID=America/Sao_Paulo:20240224T210000
DTSTAMP:20260420T123150
CREATED:20240130T155957Z
LAST-MODIFIED:20240130T155957Z
UID:121077-1708797600-1708808400@blog.livrariadavila.com.br
SUMMARY:NUMEROLOGIA - CLARISSE FERREIRA – ED. MAHATMA
DESCRIPTION: \n  \nNumerologia para além dos números \n
URL:https://blog.livrariadavila.com.br/event/numerologia-clarisse-ferreira-ed-mahatma/
LOCATION:Avenida do Batel\, nº 1868 – Loja 314 piso L3\, Curitiba\, Paraná\, 80420-090\, Brasil
GEO:-25.443012;-49.2899507
X-APPLE-STRUCTURED-LOCATION;VALUE=URI;X-ADDRESS=Avenida do Batel nº 1868 – Loja 314 piso L3 Curitiba Paraná 80420-090 Brasil;X-APPLE-RADIUS=500;X-TITLE=Avenida do Batel\, nº 1868 – Loja 314 piso L3:geo:-49.2899507,-25.443012
END:VEVENT
END:VCALENDAR