BEGIN:VCALENDAR
VERSION:2.0
PRODID:-//VILA - Blog - ECPv4.5.12.2//NONSGML v1.0//EN
CALSCALE:GREGORIAN
METHOD:PUBLISH
X-WR-CALNAME:VILA - Blog
X-ORIGINAL-URL:https://blog.livrariadavila.com.br
X-WR-CALDESC:Events for VILA - Blog
BEGIN:VEVENT
DTSTART;TZID=America/Sao_Paulo:20200118T110000
DTEND;TZID=America/Sao_Paulo:20200118T140000
DTSTAMP:20260420T212906
CREATED:20191218T175917Z
LAST-MODIFIED:20191218T175947Z
UID:112162-1579345200-1579356000@blog.livrariadavila.com.br
SUMMARY:Nutrição esportiva
DESCRIPTION:Esta obra contribui para o conhecimento científico na área de nutrição esportiva e suplementação\, tornando-se fundamental no que diz respeito ao papel da nutrição\, da genética\, da estratégia e da suplementação nutricional no desempenho esportivo. O campo da nutrição representa hoje um grande desafio a todos os profissionais da área da saúde na conduta precisa para a evolução do atleta. Escrita de forma agradável\, proporciona uma leitura prazerosa e de fácil compreensão\, com ênfase na aplicabilidade esportiva de maneira personalizada e assertiva. Os assuntos abordados são de extrema importância para nutricionistas\, educadores físicos e médicos\, bem como para estudantes. \n  \nDe Thais Verdi \nEd. Metha \n
URL:https://blog.livrariadavila.com.br/event/nutricao-esportiva/
LOCATION:Av. Juscelino Kubitschek\, 2041 - Itaim Bibi\, São Paulo\, São Paulo\, 04543-011\, Brasil
GEO:-23.5914219;-46.6898224
X-APPLE-STRUCTURED-LOCATION;VALUE=URI;X-ADDRESS=Av. Juscelino Kubitschek 2041 - Itaim Bibi São Paulo São Paulo 04543-011 Brasil;X-APPLE-RADIUS=500;X-TITLE=Av. Juscelino Kubitschek\, 2041 - Itaim Bibi:geo:-46.6898224,-23.5914219
CATEGORIES:LANÇAMENTOS,SESSÕES DE AUTÓGRAFOS
END:VEVENT
END:VCALENDAR