BEGIN:VCALENDAR
VERSION:2.0
PRODID:-//VILA - Blog - ECPv4.5.12.2//NONSGML v1.0//EN
CALSCALE:GREGORIAN
METHOD:PUBLISH
X-WR-CALNAME:VILA - Blog
X-ORIGINAL-URL:https://blog.livrariadavila.com.br
X-WR-CALDESC:Events for VILA - Blog
BEGIN:VEVENT
DTSTART;TZID=America/Sao_Paulo:20231006T180000
DTEND;TZID=America/Sao_Paulo:20231006T210000
DTSTAMP:20260421T042507
CREATED:20230920T202459Z
LAST-MODIFIED:20230920T202459Z
UID:119519-1696615200-1696626000@blog.livrariadavila.com.br
SUMMARY:O BALÃO BOBÃO\, DRAGÃO\, VOCÊ ACREDITA! E O ESPANADOR MÁGICO - ZITO CAMILLO - INDEPENDENTE
DESCRIPTION: \n  \nO livro conta a história de um balão que vivia solitário e muito triste porque as crianças não gostavam dele. \n  \n \n  \nO livro conta a história de um dragão que pensava que era um rato e um dia encontra um rato real que o ajuda a resolver o problema. \n  \n \n  \nO livro conta a história de uma galinha que sonha em ser famosa arquiteta e fica muito triste ao saber que a melhor amiga a julga incapaz. No decorrer da trama\, também e revelado as crianças como o Espanador foi criado! \n
URL:https://blog.livrariadavila.com.br/event/o-balao-bobao-dragao-voce-acredita-e-o-espanador-magico-zito-camillo-independente-3/
LOCATION:Rua Pamplona\, 1704\, São Paulo\, São Paulo\, 01405-000\, Brasil
GEO:-23.5702482;-46.6612794
X-APPLE-STRUCTURED-LOCATION;VALUE=URI;X-ADDRESS=Rua Pamplona 1704 São Paulo São Paulo 01405-000 Brasil;X-APPLE-RADIUS=500;X-TITLE=Rua Pamplona\, 1704:geo:-46.6612794,-23.5702482
END:VEVENT
END:VCALENDAR