BEGIN:VCALENDAR
VERSION:2.0
PRODID:-//VILA - Blog - ECPv4.5.12.2//NONSGML v1.0//EN
CALSCALE:GREGORIAN
METHOD:PUBLISH
X-WR-CALNAME:VILA - Blog
X-ORIGINAL-URL:https://blog.livrariadavila.com.br
X-WR-CALDESC:Events for VILA - Blog
BEGIN:VEVENT
DTSTART;TZID=America/Sao_Paulo:20231028T180000
DTEND;TZID=America/Sao_Paulo:20231028T210000
DTSTAMP:20260421T141410
CREATED:20230921T150406Z
LAST-MODIFIED:20230921T150406Z
UID:119540-1698516000-1698526800@blog.livrariadavila.com.br
SUMMARY:O BALÃO BOBÃO\, DRAGÃO\, VOCÊ ACREDITA! E O ESPANADOR MÁGICO - ZITO CAMILLO - INDEPENDENTE
DESCRIPTION: \n  \n\n\n \n\n\nO livro conta a história de um balão que vivia solitário e muito triste porque as crianças não gostavam dele.\n\n\n\n  \n \n\n\n \n\n\nO livro conta a história de um dragão que pensava que era um rato e um dia encontra um rato real que o ajuda a resolver o problema.\n\n\n\n  \n \n  \n\n\n \n\n\nO livro conta a história de uma galinha que sonha em ser famosa arquiteta e fica muito triste ao saber que a melhor amiga a julga incapaz. No decorrer da trama\, também e revelado as crianças como o Espanador foi criado!\n\n\n\n  \n
URL:https://blog.livrariadavila.com.br/event/o-balao-bobao-dragao-voce-acredita-e-o-espanador-magico-zito-camillo-independente-4/
LOCATION:Avenida do Batel\, nº 1868 – Loja 314 piso L3\, Curitiba\, Paraná\, 80420-090\, Brasil
GEO:-25.443012;-49.2899507
X-APPLE-STRUCTURED-LOCATION;VALUE=URI;X-ADDRESS=Avenida do Batel nº 1868 – Loja 314 piso L3 Curitiba Paraná 80420-090 Brasil;X-APPLE-RADIUS=500;X-TITLE=Avenida do Batel\, nº 1868 – Loja 314 piso L3:geo:-49.2899507,-25.443012
END:VEVENT
END:VCALENDAR