BEGIN:VCALENDAR
VERSION:2.0
PRODID:-//VILA - Blog - ECPv4.5.12.2//NONSGML v1.0//EN
CALSCALE:GREGORIAN
METHOD:PUBLISH
X-WR-CALNAME:VILA - Blog
X-ORIGINAL-URL:https://blog.livrariadavila.com.br
X-WR-CALDESC:Events for VILA - Blog
BEGIN:VEVENT
DTSTART;TZID=America/Sao_Paulo:20191026T110000
DTEND;TZID=America/Sao_Paulo:20191026T130000
DTSTAMP:20260423T031146
CREATED:20191001T165615Z
LAST-MODIFIED:20191003T145758Z
UID:99493-1572087600-1572094800@blog.livrariadavila.com.br
SUMMARY:O bestiário das criaturas e Necromance e a conquista do planeta dos dragões
DESCRIPTION: \n  \n  \n  \n  \n  \n  \n  \n  \n  \n  \n  \n  \n  \n \n  \nDe Ricardo Gontijo \nEd. Autografia \n
URL:https://blog.livrariadavila.com.br/event/o-bestiario-das-criaturas/
CATEGORIES:LANÇAMENTOS,SESSÕES DE AUTÓGRAFOS
END:VEVENT
END:VCALENDAR